BEGIN:VCALENDAR
VERSION:2.0
PRODID:-//VVN-VdA - ECPv6.15.20//NONSGML v1.0//EN
CALSCALE:GREGORIAN
METHOD:PUBLISH
X-ORIGINAL-URL:https://vvn-vda.de
X-WR-CALDESC:Veranstaltungen für VVN-VdA
REFRESH-INTERVAL;VALUE=DURATION:PT1H
X-Robots-Tag:noindex
X-PUBLISHED-TTL:PT1H
BEGIN:VTIMEZONE
TZID:Europe/Berlin
BEGIN:DAYLIGHT
TZOFFSETFROM:+0100
TZOFFSETTO:+0200
TZNAME:CEST
DTSTART:20250330T010000
END:DAYLIGHT
BEGIN:STANDARD
TZOFFSETFROM:+0200
TZOFFSETTO:+0100
TZNAME:CET
DTSTART:20251026T010000
END:STANDARD
BEGIN:DAYLIGHT
TZOFFSETFROM:+0100
TZOFFSETTO:+0200
TZNAME:CEST
DTSTART:20260329T010000
END:DAYLIGHT
BEGIN:STANDARD
TZOFFSETFROM:+0200
TZOFFSETTO:+0100
TZNAME:CET
DTSTART:20261025T010000
END:STANDARD
BEGIN:DAYLIGHT
TZOFFSETFROM:+0100
TZOFFSETTO:+0200
TZNAME:CEST
DTSTART:20270328T010000
END:DAYLIGHT
BEGIN:STANDARD
TZOFFSETFROM:+0200
TZOFFSETTO:+0100
TZNAME:CET
DTSTART:20271031T010000
END:STANDARD
END:VTIMEZONE
BEGIN:VEVENT
DTSTART;TZID=Europe/Berlin:20260217T180000
DTEND;TZID=Europe/Berlin:20260318T180000
DTSTAMP:20260421T212614
CREATED:20260216T175155Z
LAST-MODIFIED:20260216T175155Z
UID:34648-1771351200-1773856800@vvn-vda.de
SUMMARY:Ausstellung: Werner Seelenbinder\, Ringer - Kommunist - Staatsfeind
DESCRIPTION:Werner Seelenbinder kam 1904 in Stettin (heute: Szczecin) zur Welt und wurde mit 13 Jahren Mitglied im Arbeitersport. Den Auftakt seiner erfolgreichen Karriere als Ringer bildete 1922 der Gewinn der Berliner Arbeitersport-Meisterschaft im Federgewicht. International sorgte er erstmals 1926 für Aufsehen\, als er beim Arbeiter-Turn- und Sportfest in Wien siegte. Neben dem Sport engagierte sich Seelenbinder auch politisch: 1928 trat er der KPD bei. Weil er nach dem Gewinn der Deutschen Meisterschaft 1933 den Hitlergruß verweigerte und im illegalen Widerstand gegen das Nazi-Regime aktiv war\, wurde er verhaftet. Nach seiner Entlassung gehörte er dennoch der Ringer-Nationalmannschaft an und belegte bei den Olympischen Spielen von 1936 in Berlin den vierten Platz. Obwohl er sportlich weiterhin sehr erfolgreich war und bis 1941 noch mehrmals Deutscher Meister wurde\, verhafteten ihn die Nazis im Februar 1942 erneut. Am 5. September 1944 wurde er wegen „organisierter Vorbereitung zum Hochverrat und der landesverräterischen Feindbegünstigung“ vom Volksgerichtshof zum Tode verurteilt und am 24. Oktober 1944 im Zuchthaus Brandenburg-Görden enthauptet. Nach dem Ende des Zweiten Weltkrieges erhielten viele Orte in der DDR den Namen des Sportlers und Widerstandskämpfers. Im Jahr 2008 ist Werner Seelenbinder in die „Hall of Fame des deutschen Sports“ aufgenommen worden. \nVernissage: Dienstag\, 17. Februar 2026\, 18 Uhr\nFinissage: Mittwoch\, 18. März 2026\, 18 Uhr\, jeweils mit dem Projektleiter und Kurator Prof. Dr. Oliver Rump (HTW Berlin)\nFilmvorführung mit Gespräch: Freitag\, 6. März 2026\, 18 Uhr\, „Einer von uns“\, DEFA\, 1960 \nFlyer \n 
URL:https://vvn-vda.de/event/ausstellung-werner-seelenbinder-ringer-kommunist-staatsfeind/
LOCATION:Klubhaus Westerwaldstraße\, Westerwaldstraße 13\, Berlin\, 13589
END:VEVENT
BEGIN:VEVENT
DTSTART;TZID=Europe/Berlin:20260227T170000
DTEND;TZID=Europe/Berlin:20260301T170000
DTSTAMP:20260421T212614
CREATED:20260118T120538Z
LAST-MODIFIED:20260118T120538Z
UID:34506-1772211600-1772384400@vvn-vda.de
SUMMARY:Berliner Friedenskonferenz
DESCRIPTION:In der deutschen Wirtschaft herrscht eine Bombenstimmung. Der deutsche Staat macht hunderte Milliarden locker für Kriegsproduktion und kürzt bei Sozialen und Gesundheit\, will uns mehr und länger arbeiten lassen und uns die Jugend nehmen. Für manche von uns sind sie Freund:innen\, für andere Kinder oder Enkel – sie alle trifft das gleiche Los: Sie sollen für den Krieg bereit gemacht werden.\nIn Zeiten der Krise ist kein Platz für Frieden\, in diesen Zeiten sollen wir den Gürtel enger schnallen und uns in die Kriegsmaschinerie einfügen.\nAber warum sollten wir? Wir haben nichts von ihrer Kriegstreiberei! Wir werden nicht mitmachen beim Spiel von mehr Schufterei\, Leid und Zerstörung!\nEs ist Zeit für Wut – verteidigen wir den Frieden gegen die Gefahr des Krieges.\nDie Berliner Friedenskonferenz soll den Ort bieten\, gemeinsam zu diskutieren\, uns zu vernetzen und dem Frieden eine vereinte Kraft zu geben.
URL:https://vvn-vda.de/event/berliner-friedenskonferenz/
LOCATION:City-Kino Wedding\, Müllerstraße 74\, Berlin\, 13349
END:VEVENT
BEGIN:VEVENT
DTSTART;TZID=Europe/Berlin:20260303T153000
DTEND;TZID=Europe/Berlin:20260303T153000
DTSTAMP:20260421T212614
CREATED:20260216T180053Z
LAST-MODIFIED:20260216T180255Z
UID:34656-1772551800-1772551800@vvn-vda.de
SUMMARY:Stolpersteinverlegung: Alfred Arendt
DESCRIPTION:Parallel zur Seelenbinder-Ausstellung wird Uwe Hofschläger von der Spandauer Jugendgeschichtswerkstatt die Gelegenheit nutzen\, um 4 Spandauer Antifaschisten begleitend „ein Gesicht zu geben“\, so zum Beispiel Alfred Arendt\, Emil Wölk\, Walter Schön und Erich Meier – mit ähnlichen Schicksalen wie Werner Seelenbinder. \nFür Alfred Arendt wird am 3. März 2026\, 15:30 Uhr in der Spandauer Achenbachstraße 4 von der JGW Spandau ein Stolperstein in verlegt. \nMit Unterstützung von KNiFF e. V. – Jugend – Familie – Nachbarn im Falkenhagener Feld \nAnkündigung (s. S.2 unten)
URL:https://vvn-vda.de/event/stolpersteinverlegung-alfred-arendt/
LOCATION:Achenbachstraße 4\, Achenbachstraße 4\, Berlin\, 13585
END:VEVENT
BEGIN:VEVENT
DTSTART;TZID=Europe/Berlin:20260305T110000
DTEND;TZID=Europe/Berlin:20260305T110000
DTSTAMP:20260421T212614
CREATED:20251209T084953Z
LAST-MODIFIED:20260225T160126Z
UID:34393-1772708400-1772708400@vvn-vda.de
SUMMARY:Schulstreik gegen die Wehrpflicht
DESCRIPTION:  \nWir sagen Nein zur Wehrpflicht! Nein zu allen Zwangsdiensten! \nAm 5. Dezember hat die Bundesregierung im Bundestag gegen unseren Willen über unsere Zukunft entschieden. und hat erste Schritte hin zur Wiedereinführung der Wehrpflicht beschlossen: verpflichtende Fragebögen für junge Männer ab jetzt\, verpflichtende Musterung ab Juli 2027. Die Mehrheit der Jugendlichen lehnt die Wehrpflicht ab. Bis jetzt waren schon über 55.000 Schüler*innen dagegen auf der Straße und haben die Schule bestreikt. Für die Wehrpflicht gab es keine einzige Demo. \nDamit haben wir in ganz Deutschland deutlich gemacht: Wir machen da nicht mit! \n\nDie Bundeswehr will an unseren Schulen werben. — Wir wollen Friedensbildung!\nRheinmetall will\, dass die Aktien weiter steigen. — Wir wollen Geld für Bildung und Soziales!\nMerz will\, dass die Bundeswehr die größte Armee Europas wird. — Wir wollen Frieden!\nPistorius will\, dass wir kriegstüchtig werden. — Wir wollen eine Zukunft!\n\nFür uns ist klar: Der 5. Dezember war erst der Anfang. Wir werden zeigen\, dass die Jugend keine Fragebögen\, keine Wehrpflicht\, keinen Krieg will! Am 5. März ist unser Platz auf der Straße und nicht im Klassenzimmer! Deshalb gehen wir am 05.03. wieder nicht zur Schule! Wir streiken gegen die Wehrpflicht & alle Zwangsdienste! \nGegen die Wehrpflicht. Aber warum? \nEgal ob Nachrichten oder Talkshows – fast alle reden und diskutieren darüber. Politiker_innen\, die Bundeswehr oder irgendwelche Moderator_innen argumentieren\, wie wir die Wehrpflicht wieder einführen sollten.\nAber niemand redet mit uns. Niemand fragt uns\, was wir wollen. Niemand will wissen was wir dazu denken.\nDabei sind wir die Betroffen! Es sind unsere Leben\, über die sie diskutieren und bestimmen wollen! Deswegen zwingen wir sie uns zuzuhören\, warum wir gegen die Wehrpflicht sind! \nAbschlusskundgebung am Oranienplatz. \nMaterial: \n\nBerliner Flyer\nFlyer „Schule muss demokratisch sein“\nDemosprüche\nweiteres Material unter: https://schulstreikgegenwehrpflicht.com/material\n\nWeitere Veranstaltungen: \n\n06.03.\, 18:00\, Von der Schulbank in den Schützengraben\, Café Sibylle\, Karl-Marx Allee 72\n08.03.\, 11:30\, Demo Internationaler Frauenkampftag\, Schulstreikkomitee im GEW Block\, Oranienplatz
URL:https://vvn-vda.de/event/schulstreik-gegen-die-wehrpflicht/
LOCATION:Potsdamer Platz\, Potsdamer Platz\, Berlin\, 10785
END:VEVENT
BEGIN:VEVENT
DTSTART;TZID=Europe/Berlin:20260306T180000
DTEND;TZID=Europe/Berlin:20260306T180000
DTSTAMP:20260421T212614
CREATED:20260211T185654Z
LAST-MODIFIED:20260304T102958Z
UID:34638-1772820000-1772820000@vvn-vda.de
SUMMARY:Zeitzeugengespräch mit Armin Lufer
DESCRIPTION:Von der Schulbank in den Schützengraben – ein Zeitzeugengespräch mit dem 97-jährigen Armin Lufer \nFlyer
URL:https://vvn-vda.de/event/zeitzeugengespraech-mit-armin-lufer/
LOCATION:Café Sibylle\, Karl-Marx-Allee 72\, Berlin\, 10243
END:VEVENT
BEGIN:VEVENT
DTSTART;TZID=Europe/Berlin:20260308T113000
DTEND;TZID=Europe/Berlin:20260308T113000
DTSTAMP:20260421T212614
CREATED:20260222T092352Z
LAST-MODIFIED:20260222T092352Z
UID:34690-1772969400-1772969400@vvn-vda.de
SUMMARY:Demo Internationaler Frauenkampftag
DESCRIPTION:Im GEW-Block: Schulstreikkomitee
URL:https://vvn-vda.de/event/demo-internationaler-frauenkampftag/
LOCATION:Oranienplatz\, Oranienplatz\, Berlin\, 10999
END:VEVENT
BEGIN:VEVENT
DTSTART;TZID=Europe/Berlin:20260308T120000
DTEND;TZID=Europe/Berlin:20260308T120000
DTSTAMP:20260421T212614
CREATED:20260303T120323Z
LAST-MODIFIED:20260303T120359Z
UID:34729-1772971200-1772971200@vvn-vda.de
SUMMARY:Matinee: US-Blockade gegen Kuba
DESCRIPTION:Flyer
URL:https://vvn-vda.de/event/matinee-us-blockade-gegen-kuba/
LOCATION:Sprechsaal Berlin\, Marienstraße 26\, Berlin\, 10117
END:VEVENT
BEGIN:VEVENT
DTSTART;TZID=Europe/Berlin:20260308T140000
DTEND;TZID=Europe/Berlin:20260308T140000
DTSTAMP:20260421T212614
CREATED:20260127T181359Z
LAST-MODIFIED:20260304T094254Z
UID:34553-1772978400-1772978400@vvn-vda.de
SUMMARY:Erich-Meier-Ehrung
DESCRIPTION:Sonntag\, 8. März 2026 um 14 Uhr\, Treffpunkt auf dem Parkplatz des Spandauer Friedhofsgeländes „Unter den Kisseln“. Anschließend laden wir zum gemütlichen Beisammensein ins Klubhaus Westerwaldstraße 13\, 13589 Berlin\, ein. \nFlyer
URL:https://vvn-vda.de/event/erich-meier-ehrung/
LOCATION:Friedhof „In den Kisseln“\, Pionierstraße 82\, Berlin\, 13589
END:VEVENT
BEGIN:VEVENT
DTSTART;TZID=Europe/Berlin:20260315T153000
DTEND;TZID=Europe/Berlin:20260315T153000
DTSTAMP:20260421T212614
CREATED:20260311T194152Z
LAST-MODIFIED:20260311T194152Z
UID:34759-1773588600-1773588600@vvn-vda.de
SUMMARY:Kundgebung gegen den Krieg in Iran
DESCRIPTION:Flyer Seite 1 * Seite 2
URL:https://vvn-vda.de/event/kundgebung-gegen-den-krieg-in-iran/
LOCATION:Neptunbrunnen Berlin\, Rathausstraße 1\, Berlin\, 10178
END:VEVENT
BEGIN:VEVENT
DTSTART;TZID=Europe/Berlin:20260316T180000
DTEND;TZID=Europe/Berlin:20260316T200000
DTSTAMP:20260421T212614
CREATED:20260205T115051Z
LAST-MODIFIED:20260205T115345Z
UID:34613-1773684000-1773691200@vvn-vda.de
SUMMARY:Gewerkschaften gegen Aufrüstung und Krieg
DESCRIPTION:Friedensfähigkeit statt Kriegstüchtigkeit! \nLiebe Kolleginnen und Kollegen\, \n\n\n\ndie weltpolitischen Entwicklungen werden immer irrsinniger. Die USA unter Trump bedrohen die Welt mit Wirtschaftskriegen und unverhüllter imperialistischer Aggression\, gegen Venezuela\, den Iran und andere Länder\, und selbst gegen die eigenen Verbündeten in Europa und anderswo. Zurecht haben sich zahlreiche nationale und internationale Gewerkschaftsbünde zu Wort gemeldet\, um den Völkerrechtsbruch zu kritisieren. Denn der Überfall auf Venezuela ist insbesondere für Gewerkschaften alarmierend. Wer das Völkerrecht nicht respektiert\, der respektiert auch Arbeits- und Gewerkschaftsrechte nicht. Das betrifft uns auch in Deutschland\, schließlich betrachten die USA Europa als ihren Einflussbereich. \nDie Regierungen in der EU treten dem nicht entgegen\, sondern verdrehen dies zu einer Begründung dafür\, selbst als Militärmacht eine stärkere Rolle in der Welt spielen und dazu massiv aufzurüsten zu wollen. Zudem blockieren sie Bemühungen um eine realistische Beendigung des Krieges in der Ukraine. Die Friedensbewegung muss dem und den dahinterstehenden Erzählungen von der angeblichen Bedrohung durch Russland entgegentreten und deutlich machen\, dass nur Diplomatie mit Rüstungskontrolle (Abrüstung) und Entspannungspolitik mit allen Ländern\, insbesondere auch mit Russland und China\, den Frieden sichern können. \nDie Regierung in Deutschland will dagegen Hochrüstung\, Militarisierung und Kriegsvorbereitung vorantreiben. Die „Konversion pervers“\, der Ersatz ziviler Produktion durch Rüstung ist keine Lösung für die wirtschaftliche Stagnation und die Krise der Industrie\, sondern pure Ressourcenverschwendung. Zur Finanzierung und um die sozialpolitischen und ökonomischen Herausforderungen im Sinne des Kapitals zu bewältigen\, verstärken die Regierung und die sie dabei unterstützenden Parteien ihre Angriffe gegen die sozialen Errungenschaften der Lohnabhängigen. Dabei werden sie getrieben durch einen ideologischen und politischen Klassenkampf von oben (also des Kapitals und neoliberaler Kräfte in Medien und Wissenschaft). Das wird zur Demontage des Sozialstaats und zur weiteren Schwächung der Gewerkschaften führen. Oppositionskräfte gegen diese Politik werden zunehmend politisch angegriffen und Repressionen ausgesetzt. \nObwohl unsere Gewerkschaften derzeit unter großem Druck stehen\, müssen sie sich mit all ihrer Macht gegen diese Politik wenden und die Beschäftigten mobilisieren. Denn die aktuelle Politik aus Kriegsvorbereitung und Sozialabbau ist ein Frontalangriff auf die Beschäftigten und unsere Arbeits- und Gewerkschaftsrechte. Sie stellt letztlich die Existenz der Gewerkschaften fundamental in Frage. Als friedensbewegte Kolleginnen und Kollegen müssen wir daher unsere Anstrengungen verstärken und in unseren Gewerkschaften den Druck für unsere Mobilisierungsfähigkeit aufbauen. Wir müssen deutlich machen: Der Kampf für höhere Löhne\, den Erhalt des Sozialstaats und besseres Leben für alle und der Kampf gegen Hochrüstung und Krieg gehören untrennbar zusammen! \n  \nUm zu diskutieren\, wie wir die politische und gewerkschaftliche Lage einschätzen und wie wir am besten eingreifen können\, laden wir ein zu einer Videokonferenz der Initiative Gewerkschaften gegen Aufrüstung und Krieg am Montag\, 16.03.2026\, 18 bis 20 Uhr. Themen sollen sein:\n– Lage und Aufgaben im Kampf gegen Hochrüstung und für Sozialstaat\n– DGB-Bundeskongress 10.-13. Mai in Berlin und Aktionen dazu\n– Aktionsorientierungen und Arbeitsvorhaben\, Aufbau regionaler Zusammenhänge\nDazu werden wir einige Wochen eine weitere Einladung versenden. Ihr könnt den Termin aber schon mal vormerken. \nIn den kommenden Monaten gibt es dazu eine Reihe von Gelegenheiten\, die wir nutzen können und sollten: \n\nWir haben ein Flugblatt für die laufende Tarifrunde der Länder erstellt\, mit dem wir diese Positionen der Friedensbewegung dort deutlich machen\, argumentieren und diskutieren können. Ihr findet es als PDF und als Druckvorlage auf unserer Website.\nAm 5. März werden wieder in vielen Orten Schulstreiks gegen die Wehrpflicht stattfinden. Auch Eltern\, Großeltern und andere Friedensbewegte sind zur Unterstützung aufgerufen. Weitere Infos: https://schulstreikgegenwehrpflicht.com/\nZu den Ostermärschen der Friedensbewegung und den gewerkschaftlichen Veranstaltungen am 1. Mai wollen wir ebenfalls Flugblätter produzieren.\n10. bis 13. Mai findet in Berlin der DGB Bundeskongress statt. Dort muss die Hochrüstung und die Forderung nach Friedenspolitik zum Thema gemacht werden\, auf dem Kongress und vor dem Estrel-Hotel\, wo der Kongress stattfindet.\nIn diesem Jahr werden in ver.di eine Vielzahl von gewerkschaftlichen Konferenzen in Vorbereitung des ver.di Bundeskongresses 2027 stattfinden. Auch die IG Metall hat 2027 Gewerkschaftstag. Auf den regionalen Konferenzen sollen Anträge eingebracht und diskutiert werden. Dazu haben wir einige Musteranträge auf die Website gestellt\, ebenso Links zu weiteren friedenspolitischen Gewerkschaftsbeschlüssen sowie weitere Materialien.\n\nDer Berliner Appell ist weiterhin wichtig und hat mittlerweile über 80.000 Unterschriften. Die Sammlung ist persönliche und kollektive Aufklärung\, oft auch Diskussion und Kontroverse. Infos und Materialien: https://nie-wieder-krieg.org/berliner-appell/ \nAuch unser Aufruf kann weiter unterstützt werden und so kann man auch in unseren Verteiler aufgenommen werden: https://gewerkschaften-gegen-aufruestung.de/ \nDas Buch Gewerkschaften in der Zeitenwende\, herausgegeben von Ulrike Eifler\, ist erschienen und kann bestellt werden: https://www.vsa-verlag.de/nc/buecher/detail/artikel/gewerkschaften-in-der-zeitenwende/ \nVon Ralf Krämer ist eine kürzere und aktualisierte Version seines Textes zu Hochrüstung und Sozialabbau erschienen: https://etosmedia.de/politik/hochruestung-ruiniert-sozialstaat-und-zukunft/ \nSolidarische und friedensbewegte Grüße \nEure Initiative Gewerkschaften gegen Aufrüstung und Krieg
URL:https://vvn-vda.de/event/gewerkschaften-gegen-aufruestung-und-krieg/
LOCATION:(online)
END:VEVENT
BEGIN:VEVENT
DTSTART;TZID=Europe/Berlin:20260321T110000
DTEND;TZID=Europe/Berlin:20260321T110000
DTSTAMP:20260421T212614
CREATED:20260107T151936Z
LAST-MODIFIED:20260107T151936Z
UID:34433-1774090800-1774090800@vvn-vda.de
SUMMARY:Menschenkette gegen Rassismus
DESCRIPTION:(Beschreibung folgt)
URL:https://vvn-vda.de/event/menschenkette-gegen-rassismus/
LOCATION:Alt-Rudow / Neudecker Weg\, Alt-Rudow 72\, Berlin\, 12355
END:VEVENT
BEGIN:VEVENT
DTSTART;TZID=Europe/Berlin:20260321T130000
DTEND;TZID=Europe/Berlin:20260321T130000
DTSTAMP:20260421T212614
CREATED:20260319T150854Z
LAST-MODIFIED:20260319T150940Z
UID:34772-1774098000-1774098000@vvn-vda.de
SUMMARY:Kundgebung gegen die Blockade Kubas
DESCRIPTION:Flyer
URL:https://vvn-vda.de/event/kundgebung-gegen-die-blockade-kubas/
LOCATION:Brandenburger Tor\, Brandenburger Tor\, Berlin\, 10117\, Deutschland
END:VEVENT
BEGIN:VEVENT
DTSTART;TZID=Europe/Berlin:20260321T140000
DTEND;TZID=Europe/Berlin:20260321T140000
DTSTAMP:20260421T212614
CREATED:20260317T081628Z
LAST-MODIFIED:20260317T081628Z
UID:34767-1774101600-1774101600@vvn-vda.de
SUMMARY:Kundgebung: Nein zum Krieg gegen den Iran
DESCRIPTION:Flyer
URL:https://vvn-vda.de/event/kundgebung-nein-zum-krieg-gegen-den-iran/
LOCATION:Potsdamer Platz\, Potsdamer Platz\, Berlin\, 10785
END:VEVENT
BEGIN:VEVENT
DTSTART;TZID=Europe/Berlin:20260324T193000
DTEND;TZID=Europe/Berlin:20260324T193000
DTSTAMP:20260421T212614
CREATED:20260320T110042Z
LAST-MODIFIED:20260320T110128Z
UID:34777-1774380600-1774380600@vvn-vda.de
SUMMARY:Hans-Beimler-Chor
DESCRIPTION:Liebe Freundinnen und Freunde des Hans-Beimler-Chores\,\nvielleicht etwas spät möchte ich Euch unseren Auftritt im Rahmen einer Veranstaltung zum 125sten Bestehen des Chorverbands Berlin ankündigen. Unter dem Motto „12 Bezirke – 12 Chöre“ geht es um 19.30 Uhr los im – Heimathafen Neukölln (Manche erinnern sich: dort im ehemaligen Saalbau Neukölln hat unser Chor verschiedene Konzerte – u.a. zum 30. Chorjubiläum am 26. 5. 2002 gegeben).\nMit herzlichen Grüßen\nKalle
URL:https://vvn-vda.de/event/hans-beimler-chor/
LOCATION:Heimathafen Neukölln\, Karl-Marx-Straße 141\, Berlin\, 12043
END:VEVENT
BEGIN:VEVENT
DTSTART;TZID=Europe/Berlin:20260328T170000
DTEND;TZID=Europe/Berlin:20260328T170000
DTSTAMP:20260421T212614
CREATED:20260323T155551Z
LAST-MODIFIED:20260323T155608Z
UID:34782-1774717200-1774717200@vvn-vda.de
SUMMARY:Kundgebung: Stoppt den Krieg gegen Iran und Libanon!
DESCRIPTION:Stoppt den Krieg gegen Iran und Libanon! Stoppt Israel und die USA! \nDen Luftraum für US-Militär schließen! \n 
URL:https://vvn-vda.de/event/kundgebung-stoppt-den-krieg-gegen-iran-und-libanon/
LOCATION:Hermannplatz\, Hermannplatz\, Berlin\, 12047
ORGANIZER;CN="Die Linke Neuk%C3%B6lln":MAILTO:vorstand@die-linke-neukoelln.de
END:VEVENT
END:VCALENDAR