BEGIN:VCALENDAR
VERSION:2.0
PRODID:-//VVN-VdA - ECPv6.15.20//NONSGML v1.0//EN
CALSCALE:GREGORIAN
METHOD:PUBLISH
X-WR-CALNAME:VVN-VdA
X-ORIGINAL-URL:https://vvn-vda.de
X-WR-CALDESC:Veranstaltungen für VVN-VdA
REFRESH-INTERVAL;VALUE=DURATION:PT1H
X-Robots-Tag:noindex
X-PUBLISHED-TTL:PT1H
BEGIN:VTIMEZONE
TZID:Europe/Berlin
BEGIN:DAYLIGHT
TZOFFSETFROM:+0100
TZOFFSETTO:+0200
TZNAME:CEST
DTSTART:20240331T010000
END:DAYLIGHT
BEGIN:STANDARD
TZOFFSETFROM:+0200
TZOFFSETTO:+0100
TZNAME:CET
DTSTART:20241027T010000
END:STANDARD
BEGIN:DAYLIGHT
TZOFFSETFROM:+0100
TZOFFSETTO:+0200
TZNAME:CEST
DTSTART:20250330T010000
END:DAYLIGHT
BEGIN:STANDARD
TZOFFSETFROM:+0200
TZOFFSETTO:+0100
TZNAME:CET
DTSTART:20251026T010000
END:STANDARD
BEGIN:DAYLIGHT
TZOFFSETFROM:+0100
TZOFFSETTO:+0200
TZNAME:CEST
DTSTART:20260329T010000
END:DAYLIGHT
BEGIN:STANDARD
TZOFFSETFROM:+0200
TZOFFSETTO:+0100
TZNAME:CET
DTSTART:20261025T010000
END:STANDARD
END:VTIMEZONE
BEGIN:VEVENT
DTSTART;TZID=Europe/Berlin:20251119T080000
DTEND;TZID=Europe/Berlin:20251219T170000
DTSTAMP:20260422T021052
CREATED:20251119T162620Z
LAST-MODIFIED:20251119T162646Z
UID:34276-1763539200-1766163600@vvn-vda.de
SUMMARY:Das Nanjing-Massaker in den Augen von John Rabe
DESCRIPTION:Weltgedächtnis und Friedensvision – Das Nanjing-Massaker in den Augen von John Rabe und anderen deutschen Zeitzeugen \nIm Winter 1937 verübte die japanische Invasionsarmee das grausame Massaker von Nanjing\, bei dem über 300.000 unschuldige Zivilisten und Kriegsgefangene ermordet wurden. Dieses schmerzliche Kapitel ist nicht nur Teil des kollektiven Gedächtnisses des chinesischen Volkes\, sondern auch eine gemeinsame historische Wunde der gesamten Menschheit. \nIn jener dunklen Zeit traten einige internationale Freunde mutig hervor. Der deutsche Kaufmann John Rabe\, Vorsitzender des Internationalen Sicherheitszonen-Komitees\, riskierte sein Leben\, um zehntausende Zivilisten zu schützen\, und dokumentierte mit Tagebüchern und Aufnahmen die grausame Wahrheit des Nanjing-Massakers. Sein selbstloses Handeln und seine Zeugnisse wurden zu einem bedeutenden Symbol menschlichen Gewissens und Mutes. \nUm das Verständnis der internationalen Gemeinschaft für die historischen Tatsachen des Nanjing-Massakers zu vertiefen und die gemeinsame Idee von Frieden und Entwicklung zu vermitteln\, veranstaltet das Chinesische Kulturzentrum Berlin in Zusammenarbeit mit der Gedenkstätte der Opfer des Nanjing-Massakers durch die japanische Invasionsarmee die Ausstellung „Weltgedächtnis und Friedensvision — Das Nanjing-Massaker in den Augen von John Rabe und anderen deutschen Zeitzeugen“. Anhand historischer Dokumente\, Bildmaterialien und wertvoller Exponate werden die Erfahrungen und Handlungen deutscher Zeitzeugen in Nanjing gezeigt. Die Ausstellung ruft dazu auf\, die Geschichte nicht zu vergessen und den Frieden zu bewahren.
URL:https://vvn-vda.de/event/das-nanjing-massaker-in-den-augen-von-john-rabe/
LOCATION:Chinesisches Kulturzentrum Berlin\, Klingelhöferstraße 21\, Berlin\, 10785
END:VEVENT
BEGIN:VEVENT
DTSTART;VALUE=DATE:20251205
DTEND;VALUE=DATE:20251206
DTSTAMP:20260422T021052
CREATED:20251118T195639Z
LAST-MODIFIED:20251201T232439Z
UID:34244-1764892800-1764979199@vvn-vda.de
SUMMARY:Bundesweiter Aktionstag gegen die Wehrpflicht
DESCRIPTION:Liebe Friedensfreundinnen und Friedensfreunde\, \nbeim 32. Friedensratschlag in Kassel haben wir uns über Strategien der Friedensbewegung ausgetauscht. In der Abschlusserklärung des Ratschlages rufen wir – zu einem Aktionstag gegen die „Wehrpflicht“ am 5.12. – für den Tag auf\, an dem das Gesetz voraussichtlich im Bundestag abgestimmt werden soll. \nIn vielen Städten werden Schülerinnen und Schüler gegen die Wehrpflicht streiken. Mindestens in folgenden Städten werden Streiks geplant: Berlin\, Bochum\, Cottbus\, Dortmund\, Flensburg\, Bielefeld\, Bonn\, Darmstadt\, Essen\, Friedberg\, Göttingen\, Hannover\, Kassel\, Köln\, Münster\, Solingen\, Wilhelmshafen\, Oldenburg\, Harz\, Kiel\, München\, Offenburg\, Potsdam\, Trier. In vielen weiteren Städten werden bereits Demonstrationen und Kundgebungen organisiert. \nBei Rückfragen könnt ihr euch an folgende Mail wenden: NeinzurWehrpflicht@proton.me \nFür den Frieden – gegen die Wehrpflicht
URL:https://vvn-vda.de/event/bundesweiter-aktionstag-gegen-die-wehrpflicht/
END:VEVENT
BEGIN:VEVENT
DTSTART;TZID=Europe/Berlin:20251206T140000
DTEND;TZID=Europe/Berlin:20251206T140000
DTSTAMP:20260422T021052
CREATED:20251203T083938Z
LAST-MODIFIED:20251203T084018Z
UID:34374-1765029600-1765029600@vvn-vda.de
SUMMARY:Kundgebung: Hände weg von Venezuela
DESCRIPTION:Die USA verschärfen ihre illegalen Aggressionen gegen das venezolanische Volk und bereiten einen direkten Krieg für einen Putsch vor. In kolonialer Manier hat Trump den Flugraum Venezuelas geschlossen. US-Kriegsschiffe stehen vor der Küste bereit und es wird mit einer Bodenoffensive gedroht. \n\nHände weg von Venezuela\nStopp jeglicher Aggression und Sanktionen\nHoch die internationale Solidarität
URL:https://vvn-vda.de/event/kundgebung-haende-weg-von-venezuela/
LOCATION:Pariser Platz\, Pariser Platz 2\, Berlin\, 10117
END:VEVENT
BEGIN:VEVENT
DTSTART;TZID=Europe/Berlin:20251206T150000
DTEND;TZID=Europe/Berlin:20251206T160000
DTSTAMP:20260422T021052
CREATED:20251123T183142Z
LAST-MODIFIED:20251123T183430Z
UID:34322-1765033200-1765036800@vvn-vda.de
SUMMARY:Rundgang: Das KZ in Neukölln
DESCRIPTION:Wusstest du\, dass etwa 500 KZ-Häftlinge zum Kriegsende Munition für Krupp in Neukölln herstellten? \nAm Rande des Rixdorfer Weihnachtsmarkts bietet Public Historian Steve Richards zwei kostenlose Rundgänge um das Gelände\, das die SS zwischen August 1944 und April 1945 als Außenlager des KZ Sachsenhausen nutzte. Die Tour beleuchtet die Geschichte des historischen Ortes vor\, während und nach 1945 – mit besonderem Augenmerk auf das Schicksal von über 500 jüdischen Frauen\, die fast alle das Ghetto Łódź\, die Selektion in Auschwitz-Birkenau\, das KZ-Außenlager Neukölln\, das KZ Sachsenhausen (Hauptlager) und das KZ Ravensbrück überlebten. Zudem geht die Tour der Frage nach\, warum dieser bedeutende historische Ort hierzulande weitgehend in Vergessenheit geraten ist – während er immer noch eine zentrale Rolle im kollektiven Gedächtnis der Überlebenden und ihrer Nachkommen spielt. \nAnmeldung: stadtteil-mobil@nbh-neukoelln.de
URL:https://vvn-vda.de/event/rundgang-das-kz-in-neukoelln/
LOCATION:Bethlehemskirche Rixdorf\, Richardplatz 22\, Berlin\, 12055
ORGANIZER;CN="Mobile Stadtteilarbeit Rixdorf/Reuterkiez/Donaukiez":MAILTO:stadtteil-mobil@nbh-neukoelln.de
END:VEVENT
BEGIN:VEVENT
DTSTART;TZID=Europe/Berlin:20251206T163000
DTEND;TZID=Europe/Berlin:20251206T173000
DTSTAMP:20260422T021052
CREATED:20251123T183459Z
LAST-MODIFIED:20251123T183459Z
UID:34329-1765038600-1765042200@vvn-vda.de
SUMMARY:Rundgang: Das KZ in Neukölln
DESCRIPTION:Wusstest du\, dass etwa 500 KZ-Häftlinge zum Kriegsende Munition für Krupp in Neukölln herstellten? \nAm Rande des Rixdorfer Weihnachtsmarkts bietet Public Historian Steve Richards zwei kostenlose Rundgänge um das Gelände\, das die SS zwischen August 1944 und April 1945 als Außenlager des KZ Sachsenhausen nutzte. Die Tour beleuchtet die Geschichte des historischen Ortes vor\, während und nach 1945 – mit besonderem Augenmerk auf das Schicksal von über 500 jüdischen Frauen\, die fast alle das Ghetto Łódź\, die Selektion in Auschwitz-Birkenau\, das KZ-Außenlager Neukölln\, das KZ Sachsenhausen (Hauptlager) und das KZ Ravensbrück überlebten. Zudem geht die Tour der Frage nach\, warum dieser bedeutende historische Ort hierzulande weitgehend in Vergessenheit geraten ist – während er immer noch eine zentrale Rolle im kollektiven Gedächtnis der Überlebenden und ihrer Nachkommen spielt. \nAnmeldung: stadtteil-mobil@nbh-neukoelln.de
URL:https://vvn-vda.de/event/rundgang-das-kz-in-neukoelln-2/
LOCATION:Bethlehemskirche Rixdorf\, Richardplatz 22\, Berlin\, 12055
ORGANIZER;CN="Mobile Stadtteilarbeit Rixdorf/Reuterkiez/Donaukiez":MAILTO:stadtteil-mobil@nbh-neukoelln.de
END:VEVENT
BEGIN:VEVENT
DTSTART;TZID=Europe/Berlin:20251207T183000
DTEND;TZID=Europe/Berlin:20251207T183000
DTSTAMP:20260422T021052
CREATED:20251201T113954Z
LAST-MODIFIED:20251201T114029Z
UID:34359-1765132200-1765132200@vvn-vda.de
SUMMARY:Vom Feldgeistlichen zur Militärseelsorgerin
DESCRIPTION:Vom Feldgeistlichen zur Militärseelsorgerin – Wie Soldatinnen\, Soldaten und ihre Angehörigen geistlich betreut werden –  Kirche und Militär \nInput: Horsta Krum\, Theologin \nIm Rahmen des Friko-Plenums.
URL:https://vvn-vda.de/event/vom-feldgeistlichen-zur-militaerseelsorgerin/
LOCATION:PallasT\, Goebenstraße 1\, Berlin\, 10783
ORGANIZER;CN="FRIKO":MAILTO:info@friko-berlin.de
END:VEVENT
BEGIN:VEVENT
DTSTART;TZID=Europe/Berlin:20251208T190000
DTEND;TZID=Europe/Berlin:20251208T190000
DTSTAMP:20260422T021052
CREATED:20251203T170026Z
LAST-MODIFIED:20251203T170026Z
UID:34380-1765220400-1765220400@vvn-vda.de
SUMMARY:Beratung: Venezuela ist bedroht
DESCRIPTION:Einladung zur Beratung einer Kundgebung/Demonstration gegen die Kriegstreiberei der USA gegen Venezuela und andere Karibikstaaten: \nDie Lage in der Karibik\, im Golf von Mexiko und im Pazifik mit dem Fokus auf Venezuela und seine karibischen Nachbarsstaaten ist besorgniserregend bewertet. – Ausschlaggebend für die Verschärfung der politischen und militärischen Spannungen in der Region ist die veränderte Doktrin Trumps und des US-Außenministeriums unter Rubio: \n\nAggressive Wiederbelebung der sogenannten „Monroe-Doktrin“ von 1823\, verstärkt unter der Präsidentschaft von Trump seit 2017 (Trump I) mit aggressivem Hegemonialanspruch der USA über seinen „karibischen Vorhof“;\nEskalation und Veränderung der Erzählung von der Bedrohung der Sicherheit der USA durch angeblich clangestützten Narco-Terrorismus über das karibische Meer mit Venezuela im Zentrum; Stilisierung des venezolanischen Präsidenten zum obersten Clan-Chef des Drogen-Kartells de los Soles durch das US-Außenministerium mit angeblich unmittelbarer Gefahr für die Sicherheit der USA;\nDie letzten Präsidentenwahlen mit der offiziellen Wahlniederlage der Oppositionskandidatin Maria Corina Machado im Spätsommer 2024 in Venezuela\, die Änderung der Venezuela-Doktrin durch das US-amerikanische Außenministerium zwischen Juni und August 2025 mit folgender\, zunehmend militärischer Aggression der US-Navy im karibischen Meer sind Puzzleteile der Agenda zur Verwirklichung\nInsider-Informationen – etwa der New York Times – zufolge ist ein gesetztes politisches Ziel von Trump\, Maduro zu stürzen und seine favorisierte und ihm ergebene Kandidatin für den Präsidentenpalast Miraflores in Caracas\, die diesjährige Friedensnobelpreisträgerin Maria Corina Machado\, zu inthronisieren.\n\nDas Treffen dient zur Vorbereitung einer von möglichst vielen gesellschaftlichen Gruppen getragenen Aktion. \nIniitiiert von der Frente Unido Americá Latina \nEs liegt ein Aufrufentwurf vor\, über den wir sprechen möchten sowie darüber\, wie\, wann und wo eine medienwirksame und kraftvolle Aktion in Berlin möglich ist.\nSollte es zu einer Invasion kommen\, trifft man sich in jedem Fall sofort (TAG X) \, oder – sollte dieser in der Nacht geschehen\, am Folgetag um 18 Uhr am BT.
URL:https://vvn-vda.de/event/beratung-venezuela-ist-bedroht/
LOCATION:Coop Anti-War Café\, Rochstraße 3\, Berlin\, 10178
END:VEVENT
BEGIN:VEVENT
DTSTART;TZID=Europe/Berlin:20251209T180000
DTEND;TZID=Europe/Berlin:20251209T190000
DTSTAMP:20260422T021052
CREATED:20251008T074952Z
LAST-MODIFIED:20251008T075312Z
UID:33923-1765303200-1765306800@vvn-vda.de
SUMMARY:Kundgebung: Freiheit für Mumia Abu-Jamal
DESCRIPTION:Free Mumia – eine Stunde in Solidarität mit den Unterdrückten des US Feudalismus \nAm Dienstag\, den 9. Dezember 2025 sitzt der afroamerikanische Journalist Mumia Abu-Jamal 44 (!) Jahre für einen untergeschobenen Polizistenmord in Haft. Mumia hat als Journalist bereits vor Jahrzehnten über Konzernherrschaft\, autoritäre und rassistisch motivierte Repression sowie tödliche Polizeigewalt in den USA berichtet und diese kritisiert\, als seine Kolleg*innen sich dem vorgegebenen Mainstream z.T. freiwillig unterordneten. Als ehemaliger Pressesprecher der Black Panther Party wusste und weiss er sehr genau\, wozu die Vertreter*innen der White Supremacy in den USA fähig sind. \nDie aktuelle tech-feudalistische Machtübernahme wuchs nicht über Nacht\, sondern ist tief im sozial-darwinistisch geprägten Siedlerkolonialismus Nordamerikas verwurzelt. Massenmord und Ethnozid an der Indigenen Bevölkerung sowie die bis heute modifiziert anhaltende Sklaverei haben die herrschende Klasse in den USA befähigt\, Menschenrechte zu ignorieren und eigene Interessen ohne Skrupel durchzusetzen. Die Kriege\, die die USA seit langer Zeit nach außen führen oder unterstützen\, sind ein Spiegel der Kriege\, die sie seit ihrem Bestehen nach innen führen: Vertreibung und Ermordung aller People of Color\, die sich den Verwertungsinteressen nicht unterordnen. Eine klassistische und rassistische Justiz wacht darüber\, dass das untere Drittel der US Bevölkerung keinen Zugang zu Gerechitgkeit hat und Konzerne ungehindert machen können\, was sie wollen. Eine Polizei\, die aus den Sklavenhalter*innen-Patrouillen der ehemaligen Südstaaten hervorging\, plündert und terrorisiert straffrei die arme Bevölkerung im Land. Politiker*innen beider großen Parteien in den USA sind häufig Lobbyist*innen von Großkonzernen\, allen voran der Waffen- und Gefängnisindustrie. \nÜber 2 Millionen Gefangene – mehr als in jedem anderen Land der Erde – erwirtschaften gigantische Profite und bleiben auch nach ihrer Haftentlassung weitestgehend ohne Bürger*innenrechte. Außergewöhnlich lange Haftstrafen und die menschenrechtswidrige Anwendung von Isolationshaft über Jahrzehnte gehören zum etablierten Folterprogramm\, um die Bevölkerung im sog. „Land of the Free“\, dem vermeintlichen Land der Freien in Schach zu halten. Und da haben wir noch gar nicht über rassistische Polizeikontrollen und die Zerschlagung des Sozialstaates gesprochen. Niederschmetternd und apokalyptisch – aber so fest sitzen die Tech-Faschist*innen nicht im Sattel. \nDiejenigen in den USA zu unterstützen\, die dagegen halten und eine Perspektive von Freiheit und Gerechtigkeit aufrecht erhalten\, ist das Mindeste\, was wir tun können. Mumia Abu-Jamal kämpft nach zwei überlebten Hinrichtungsbefehlen mit über 71 Jahren noch immer gegen Folter\, Ausbeutung und Krieg. Von Erblindung bedroht\, von zahlreichen unbehandelten Alterserkrankungen betroffen\, hört er nicht auf\, eine Stimme der Unterdrückten in den Todestrakten und Isolationsgefängnissen der USA zu sein. Stärken wir Mumia\, stärken wir die kämpfenden Gefangenen in den USA! \nFREE MUMIA – FREE THEM ALL!
URL:https://vvn-vda.de/event/kundgebung-freiheit-fuer-mumia-abu-jamal/
LOCATION:US-Botschaft Berlin\, Pariser Platz 2\, Berlin
ORGANIZER;CN="Free Mumia Berlin":MAILTO:berlin@freiheit-fuer-mumia.de
END:VEVENT
BEGIN:VEVENT
DTSTART;TZID=Europe/Berlin:20251209T183000
DTEND;TZID=Europe/Berlin:20251209T183000
DTSTAMP:20260422T021052
CREATED:20251201T113708Z
LAST-MODIFIED:20251201T113708Z
UID:34355-1765305000-1765305000@vvn-vda.de
SUMMARY:Butter statt Kanonen
DESCRIPTION:Veranstaltung der LAG Betrieb und Gewerkschaft der Linken Berlin gemeinsam mit dem bezirklichen Zusammenschluss „Auch wir sind die Linke“ der Linken im Bezirk Treptow-Köpenick. \nThema: Butter statt Kanonen\, zum Zusammenhang von Aufrüstung/Militarisierung und Sozialabbau und die notwendige Gegenwehr \nAls Referenten konnten wir den in der Friedensbewegung bekannten Experten Ingar Solty von der Rosa-Luxemburg-Stiftung gewinnen. \nFlyer \n 
URL:https://vvn-vda.de/event/butter-statt-kanonen/
LOCATION:Karl-Liebknecht-Haus\, Kleine Alexanderstraße 28\, 10178 Berlin
END:VEVENT
BEGIN:VEVENT
DTSTART;TZID=Europe/Berlin:20251213T130000
DTEND;TZID=Europe/Berlin:20251213T200000
DTSTAMP:20260422T021052
CREATED:20251204T164009Z
LAST-MODIFIED:20251204T164009Z
UID:34386-1765630800-1765656000@vvn-vda.de
SUMMARY:Kuba-Soli-Basar
DESCRIPTION:Flyer
URL:https://vvn-vda.de/event/kuba-soli-basar/
LOCATION:Galerie Olga Benario\, Richardstraße 104\, Berlin\, 12043
ORGANIZER;CN="Freundschaftsgesellschaft Berlin-Kuba e.V.":MAILTO:webmaster@fg-berlin-kuba.de
END:VEVENT
BEGIN:VEVENT
DTSTART;TZID=Europe/Berlin:20251214T130000
DTEND;TZID=Europe/Berlin:20251214T200000
DTSTAMP:20260422T021052
CREATED:20251204T164157Z
LAST-MODIFIED:20251204T164157Z
UID:34390-1765717200-1765742400@vvn-vda.de
SUMMARY:Kuba-Soli-Basar
DESCRIPTION:Flyer
URL:https://vvn-vda.de/event/kuba-soli-basar-2/
LOCATION:Galerie Olga Benario\, Richardstraße 104\, Berlin\, 12043
ORGANIZER;CN="Freundschaftsgesellschaft Berlin-Kuba e.V.":MAILTO:webmaster@fg-berlin-kuba.de
END:VEVENT
END:VCALENDAR