BEGIN:VCALENDAR
VERSION:2.0
PRODID:-//VVN-VdA - ECPv6.15.20//NONSGML v1.0//EN
CALSCALE:GREGORIAN
METHOD:PUBLISH
X-ORIGINAL-URL:https://vvn-vda.de
X-WR-CALDESC:Veranstaltungen für VVN-VdA
REFRESH-INTERVAL;VALUE=DURATION:PT1H
X-Robots-Tag:noindex
X-PUBLISHED-TTL:PT1H
BEGIN:VTIMEZONE
TZID:Europe/Berlin
BEGIN:DAYLIGHT
TZOFFSETFROM:+0100
TZOFFSETTO:+0200
TZNAME:CEST
DTSTART:20250330T010000
END:DAYLIGHT
BEGIN:STANDARD
TZOFFSETFROM:+0200
TZOFFSETTO:+0100
TZNAME:CET
DTSTART:20251026T010000
END:STANDARD
BEGIN:DAYLIGHT
TZOFFSETFROM:+0100
TZOFFSETTO:+0200
TZNAME:CEST
DTSTART:20260329T010000
END:DAYLIGHT
BEGIN:STANDARD
TZOFFSETFROM:+0200
TZOFFSETTO:+0100
TZNAME:CET
DTSTART:20261025T010000
END:STANDARD
BEGIN:DAYLIGHT
TZOFFSETFROM:+0100
TZOFFSETTO:+0200
TZNAME:CEST
DTSTART:20270328T010000
END:DAYLIGHT
BEGIN:STANDARD
TZOFFSETFROM:+0200
TZOFFSETTO:+0100
TZNAME:CET
DTSTART:20271031T010000
END:STANDARD
END:VTIMEZONE
BEGIN:VEVENT
DTSTART;TZID=Europe/Berlin:20260421T183000
DTEND;TZID=Europe/Berlin:20260421T200000
DTSTAMP:20260421T180814
CREATED:20260224T165122Z
LAST-MODIFIED:20260224T165607Z
UID:34713-1776796200-1776801600@vvn-vda.de
SUMMARY:Neue geopolitische Maßlosigkeit und das Ende der Rüstungskontrolle
DESCRIPTION:Mit dieser Veranstaltung möchten wir die Debatte über Hochrüstung und Abschreckung auch in der kritischen Friedensforschung wiederbeleben. Ein Grund liegt in der Zerstörung relevanter Verträge zur Abrüstung und Rüstungskontrolle durch Aussetzung\, Kündigung oder Nichtverlängerung. Betroffen sind unter anderem der Vertrag über Konventionelle Streitkräfte in Europa (KSE-Vertrag)\, der INF-Vertrag über die Abrüstung landgestützter atomarer Mittelstreckenraketen und der ABM-Vertrag zur Begrenzung von Raketenabwehrsystemen. Nun hat es mit dem New Start-Vertrag die letzte Bastion zur Begrenzung und Kontrolle strategischer Atomwaffen erwischt. An dieser Entwicklung haben auch die NATO-Staaten – allen voran die USA – erheblichen Anteil. \nWährend Abrüstung und Rüstungskontrolle abgewickelt werden\, explodieren die Rüstungsetats nicht zuletzt der NATO-Staaten in unvorstellbare Höhen\, werden überall Waffentechnologien revolutioniert und exklusive Pläne zur Stationierung von US-Mittelstreckenraketen in Deutschland geschmiedet. Die Bündnisstaaten setzen damit einseitig auf eine Strategie militärischer Abschreckung\, die bereits während der Blockkonfrontation zwischen NATO und der Warschauer Vertragsorganisation mehrmals  an der atomaren Apokalypse nur knapp vorgeschrammt war. Und derzeit sind die Beziehungen zu Russland nach dem Angriffskrieg auf die Ukraine noch frostiger als in den Hochzeiten des Kalten Kriegs. Die Vorstellung\, die Eskalationsrisiken militärischer Hochrüstung durch noch mehr Rüstung beherrschen zu können\, ist nicht nur paradox: Sie grenzt an Hybris. Nun wollen sich auch noch die EU-Europäer*innen unter dem Schlagwort der strategischen Autonomie in das tobende Hasardeurspiel einschalten. \nMit Oberst a.D. Wolfgang Richter haben wir nicht nur einen Militärexperten\, sondern auch einen ausgewiesenen Kenner der gegenwärtigen strategischen Lage mit praktischer Erfahrung auf dem diplomatischen Parkett gewonnen. Er war Leitender Militärberater in den deutschen VN- und OSZE-Vertretungen\, wissenschaftlicher Mitarbeiter bei der Stiftung Wissenschaft und Politik (SWP) und arbeitet derzeit als Associate Fellow beim Genfer Zentrum für Sicherheitspolitik (GCSP). Dort beschäftigt er sich unter anderem mit der Fragen der Europäischen Sicherheitsordnung und der stabilisierenden Rolle der Rüstungskontrolle. \nBitte meldet Euch rechtzeitig an bei David Scheuing:  d.a.scheuing@web.de Der Link geht Euch kurz vor der Veranstaltung zu. \nAktuelle Veröffentlichungen von Oberst a.D. Richter: \n\nRusslands Angriffskrieg gegen die Ukraine Vorbereitung – Kriegsverlauf – Ressourcen – Risiken – Folgerungen. Wien: Friedrich-Eberst-Stiftung\, 2023 (online:  https://library.fes.de/pdf-files/bueros/wien/20886.pdf)\nStationierung von U.S. Mittelstreckenraketen in Deutschland\, Konzeptioneller Hintergrund und Folgen für die europäische Sicherheit\, Wien (Friedrich-Ebert-Stiftung) 2024; Aktualisierte Fassung in: Varwick\, Johannes (Hrsg.): Die Debatte um US-Mittelstreckenraketen in Deutschland. Sicherheitspolitische Weichenstellungen der Jahre 2024/2025\, Opladen; Berlin; Toronto (Verlag Barbara Budrich)\, 2025\, S. 15-40.\nWolfgang Richter\, „Russlands Angriffskrieg gegen die Ukraine: Vorbereitung – Kriegsverlauf – Ressourcen -Risiken – Folgerungen.“ in: Götz Neuneck (Hg.)\, „Europa und der Ukrainekrieg. Chancen und Herausforderungen für eine zukünftige Friedens- und Sicherheitspolitik.“ (Mitteldeutscher Verlag) Halle (Saale)\, 2024\, S. 39 – 136
URL:https://vvn-vda.de/event/neue-geopolitische-masslosigkeit-und-das-ende-der-ruestungskontrolle/
LOCATION:(online)
ORGANIZER;CN="AK Herrschaftskritische Friedensforschung":MAILTO:d.a.scheuing@web.de
END:VEVENT
BEGIN:VEVENT
DTSTART;TZID=Europe/Berlin:20260421T200000
DTEND;TZID=Europe/Berlin:20260421T200000
DTSTAMP:20260421T180814
CREATED:20260417T205047Z
LAST-MODIFIED:20260417T205047Z
UID:34840-1776801600-1776801600@vvn-vda.de
SUMMARY:Buchvorstellung und Diskussion: »Linker Antisemitismus« Zur Kritik eines Kampfbegriffs
DESCRIPTION:Die Behauptung\, es gebe einen gefährlichen »linken Antisemitismus«\, erfuhr nach dem 7. Oktober eine drastische Verschärfung. Was bislang noch ein Diskurs war\, der mit Konstruktionen\, Unterstellungen und Lügen operierte\, wurde verpolizeilicht. Der Vorwurf zielt auf antiimperialistisch\, antikolonial oder menschenrechtlich eingestellte Linke. Wer die deutsche Staatsräson nicht teilt und andere Lehren aus NS-Geschichte\, vergangener Verfolgungspraxis und Völkermord zieht\, sieht sich moralischer Verdammung\, zuweilen Verfolgung ausgesetzt. Die nach wie vor höchst notwendige Kritik des Antisemitismus muss sich ebenfalls diesem demagogischen »Anti-Antisemitismus« widmen. \nBuchvorstellung und Diskussion mit Gerhard Hanloser
URL:https://vvn-vda.de/event/buchvorstellung-und-diskussion-linker-antisemitismus-zur-kritik-eines-kampfbegriffs/
LOCATION:Buchladen Schwarze Risse\, Gneisenaustraße 2a\, Berlin\, 10961
END:VEVENT
BEGIN:VEVENT
DTSTART;TZID=Europe/Berlin:20260425T113000
DTEND;TZID=Europe/Berlin:20260425T180000
DTSTAMP:20260421T180814
CREATED:20260118T120005Z
LAST-MODIFIED:20260118T120005Z
UID:34502-1777116600-1777140000@vvn-vda.de
SUMMARY:Elbe-Tag in Torgau
DESCRIPTION:Demonstration vom Ostufer der Elbe durch das Stadtzentrum von Torgau am Ernst-Thälmann-Denkmal vorbei über den Rathausplatz zum Denkmal der Begegnung an der Elbe am Westufer.
URL:https://vvn-vda.de/event/elbe-tag-in-torgau/
LOCATION:Brückenkopf Torgau\, Brückenkopf\, Torgau\, 04860
END:VEVENT
BEGIN:VEVENT
DTSTART;VALUE=DATE:20260508
DTEND;VALUE=DATE:20260509
DTSTAMP:20260421T180814
CREATED:20260310T162156Z
LAST-MODIFIED:20260310T162156Z
UID:34752-1778198400-1778284799@vvn-vda.de
SUMMARY:Schulstreik gegen Wehrpflicht
DESCRIPTION:(nähere Informationen folgen) \n 
URL:https://vvn-vda.de/event/schulstreik-gegen-wehrpflicht/
END:VEVENT
END:VCALENDAR