BEGIN:VCALENDAR
VERSION:2.0
PRODID:-//VVN-VdA - ECPv6.15.20//NONSGML v1.0//EN
CALSCALE:GREGORIAN
METHOD:PUBLISH
X-WR-CALNAME:VVN-VdA
X-ORIGINAL-URL:https://vvn-vda.de
X-WR-CALDESC:Veranstaltungen für VVN-VdA
REFRESH-INTERVAL;VALUE=DURATION:PT1H
X-Robots-Tag:noindex
X-PUBLISHED-TTL:PT1H
BEGIN:VTIMEZONE
TZID:Europe/Berlin
BEGIN:DAYLIGHT
TZOFFSETFROM:+0100
TZOFFSETTO:+0200
TZNAME:CEST
DTSTART:20250330T010000
END:DAYLIGHT
BEGIN:STANDARD
TZOFFSETFROM:+0200
TZOFFSETTO:+0100
TZNAME:CET
DTSTART:20251026T010000
END:STANDARD
BEGIN:DAYLIGHT
TZOFFSETFROM:+0100
TZOFFSETTO:+0200
TZNAME:CEST
DTSTART:20260329T010000
END:DAYLIGHT
BEGIN:STANDARD
TZOFFSETFROM:+0200
TZOFFSETTO:+0100
TZNAME:CET
DTSTART:20261025T010000
END:STANDARD
BEGIN:DAYLIGHT
TZOFFSETFROM:+0100
TZOFFSETTO:+0200
TZNAME:CEST
DTSTART:20270328T010000
END:DAYLIGHT
BEGIN:STANDARD
TZOFFSETFROM:+0200
TZOFFSETTO:+0100
TZNAME:CET
DTSTART:20271031T010000
END:STANDARD
END:VTIMEZONE
BEGIN:VEVENT
DTSTART;TZID=Europe/Berlin:20260418T140000
DTEND;TZID=Europe/Berlin:20260418T140000
DTSTAMP:20260423T142606
CREATED:20260409T174807Z
LAST-MODIFIED:20260409T174941Z
UID:34815-1776520800-1776520800@vvn-vda.de
SUMMARY:Kundgebung: Widerstand gegen die Kriegsmaschinerie organisieren
DESCRIPTION:Kundgebung anlässlich des 140. Geburtstages Ernst Thälmanns \nWiderstand gegen die Kriegsmaschinerie organisieren! Solidarität mit Kuba! \nIn einer Welt\, in der faschistische und rassistische Ideen wieder salonfähig gemacht werden\, in einer Welt in der nicht Völkerrecht\, sondern das Faustrecht regiert\, in einem Land\, dessen Staat sich zunehmend reaktionär und repressiv umgestaltet\, wo Gesundheit\, Bildung und Infrastruktur der Aufrüstung zum Opfer fallen\, wollen wir das Gedenken an Ernst Thälmann und den Genossinnen und Genossen der KPD mit unseren aktuellen Aufgaben verbinden: Kampf für Frieden und internationalistische Solidarität. Wir freuen uns auf unsere Rednerinnen auf den kommenden beiden Kundgebungen und natürlich auf Euer Kommen! Details weiter unten. \nBitte beachtet\, dass das Thälmann-Denkmal nach wie vor saniert wird und das Thälmann-Monument im gleichnamigen Berliner Ernst-Thälmann-Park eingezäunt sein wird. Wir werden uns also vorraussichtlich dieses Jahr nicht direkt vor dem Denkmal versammeln können. Jedoch: Der Zaun bietet eine nützliche Fläche\, die mit unseren Fahnen\, Transparenten und Losungen verschönert werden kann. Bringt bitte ausreichend Fahnen\, Schilder und Transparente mit. \nRednerin: Ellen Brombacher (Kommunistische Plattform in der Partei Die Linke)
URL:https://vvn-vda.de/event/kundgebung-widerstand-gegen-die-kriegsmaschinerie-organisieren/
LOCATION:Ernst-Thälmann-Denkmal\, Ernst-Thälmann-Park\, Berlin
END:VEVENT
END:VCALENDAR