BEGIN:VCALENDAR
VERSION:2.0
PRODID:-//VVN-VdA - ECPv6.15.20//NONSGML v1.0//EN
CALSCALE:GREGORIAN
METHOD:PUBLISH
X-ORIGINAL-URL:https://vvn-vda.de
X-WR-CALDESC:Veranstaltungen für VVN-VdA
REFRESH-INTERVAL;VALUE=DURATION:PT1H
X-Robots-Tag:noindex
X-PUBLISHED-TTL:PT1H
BEGIN:VTIMEZONE
TZID:Europe/Berlin
BEGIN:DAYLIGHT
TZOFFSETFROM:+0100
TZOFFSETTO:+0200
TZNAME:CEST
DTSTART:20250330T010000
END:DAYLIGHT
BEGIN:STANDARD
TZOFFSETFROM:+0200
TZOFFSETTO:+0100
TZNAME:CET
DTSTART:20251026T010000
END:STANDARD
BEGIN:DAYLIGHT
TZOFFSETFROM:+0100
TZOFFSETTO:+0200
TZNAME:CEST
DTSTART:20260329T010000
END:DAYLIGHT
BEGIN:STANDARD
TZOFFSETFROM:+0200
TZOFFSETTO:+0100
TZNAME:CET
DTSTART:20261025T010000
END:STANDARD
BEGIN:DAYLIGHT
TZOFFSETFROM:+0100
TZOFFSETTO:+0200
TZNAME:CEST
DTSTART:20270328T010000
END:DAYLIGHT
BEGIN:STANDARD
TZOFFSETFROM:+0200
TZOFFSETTO:+0100
TZNAME:CET
DTSTART:20271031T010000
END:STANDARD
END:VTIMEZONE
BEGIN:VEVENT
DTSTART;TZID=Europe/Berlin:20260412T140000
DTEND;TZID=Europe/Berlin:20260412T140000
DTSTAMP:20260424T001531
CREATED:20260404T074911Z
LAST-MODIFIED:20260404T075205Z
UID:34795-1776002400-1776002400@vvn-vda.de
SUMMARY:Kundgebung zum 14. Todestag von Burak Bektaş
DESCRIPTION:Wer hat Burak ermordet?\nSchluss mit der Straflosigkeit! \nBurak Bektaş wurde in der Nacht vom 4. auf den 5. April 2012 in Berlin vor dem Krankenhaus Neukölln erschossen. Er war 22 Jahre alt. Vier seiner Freunde haben den Mordversuch überlebt\, zwei von ihnen wurden lebensgefährlich verletzt. Die Tat ähnelt den Morden des Neonazi-Netzwerks NSU. War das Motiv auch bei diesem Mord Rassismus? Der Mord an Burak und die vier Mordversuche sind bis heute nicht aufgeklärt. Der Mörder wurde nicht ermittelt. Seit Jahrzehnten werden migrantisierte\, linke und antifaschistische Menschen in Neukölln nicht nur ungehindert angegriffen\, sondern die Täter können sich offenbar auch auf Schutz\, Duldung oder zumindest auf Wegsehen verlassen. \nEs wurde ein parlamentarischer Untersuchungsausschuss erkämpft\, der untersuchen sollte\, weshalb die Ermittlungsbehörden die Terrorserie des Neukölln-Komplexes nicht aufgeklärt haben. Der Mord an Burak geschah ein halbes Jahr nach der Selbstenttarnung des NSU. Die Ermittlungsbehörden haben an ihrer Arbeitsweise dennoch nichts geändert und leugnen die Existenz und Wirkung von Rassismus. Fehlende Ermittlung bedeutet Straflosigkeit. Rechte Gewalttäter\, Nazis können weiterhin ungehindert Terror verbreiten. \n„Ich will Gerechtigkeit. Mein Sohn ist gestorben und der Täter soll seine Strafe bekommen.“ Melek Bektaş \nKein Vergessen! Kein Vergeben!\nKein Schlussstrich! \nFlyer
URL:https://vvn-vda.de/event/kundgebung-zum-14-todestag-von-burak-bektas/
LOCATION:Gedenkort Burak Bektaş\, Möwenweg 39\, Berlin
ORGANIZER;CN="Initiative f%C3%BCr die Aufkl%C3%A4rung des Mordes an Burak Bekta%C5%9F":MAILTO:burak.initiative@disroot.org
END:VEVENT
END:VCALENDAR