BEGIN:VCALENDAR
VERSION:2.0
PRODID:-//VVN-VdA - ECPv6.15.20//NONSGML v1.0//EN
CALSCALE:GREGORIAN
METHOD:PUBLISH
X-ORIGINAL-URL:https://vvn-vda.de
X-WR-CALDESC:Veranstaltungen für VVN-VdA
REFRESH-INTERVAL;VALUE=DURATION:PT1H
X-Robots-Tag:noindex
X-PUBLISHED-TTL:PT1H
BEGIN:VTIMEZONE
TZID:Europe/Berlin
BEGIN:DAYLIGHT
TZOFFSETFROM:+0100
TZOFFSETTO:+0200
TZNAME:CEST
DTSTART:20250330T010000
END:DAYLIGHT
BEGIN:STANDARD
TZOFFSETFROM:+0200
TZOFFSETTO:+0100
TZNAME:CET
DTSTART:20251026T010000
END:STANDARD
BEGIN:DAYLIGHT
TZOFFSETFROM:+0100
TZOFFSETTO:+0200
TZNAME:CEST
DTSTART:20260329T010000
END:DAYLIGHT
BEGIN:STANDARD
TZOFFSETFROM:+0200
TZOFFSETTO:+0100
TZNAME:CET
DTSTART:20261025T010000
END:STANDARD
BEGIN:DAYLIGHT
TZOFFSETFROM:+0100
TZOFFSETTO:+0200
TZNAME:CEST
DTSTART:20270328T010000
END:DAYLIGHT
BEGIN:STANDARD
TZOFFSETFROM:+0200
TZOFFSETTO:+0100
TZNAME:CET
DTSTART:20271031T010000
END:STANDARD
END:VTIMEZONE
BEGIN:VEVENT
DTSTART;TZID=Europe/Berlin:20260404T130000
DTEND;TZID=Europe/Berlin:20260404T130000
DTSTAMP:20260421T212624
CREATED:20260225T163500Z
LAST-MODIFIED:20260225T163641Z
UID:34723-1775307600-1775307600@vvn-vda.de
SUMMARY:Ostermarsch
DESCRIPTION:Kriegstüchtig und siegfähig? Abbau des Sozialstaats? UN-Charta in den Müll?\nNicht in unserem Namen!!! \nZeig mit uns gemeinsam Mut\, statt einsam zu verstummen. \nWir verlangen \n\nAbrüstung und friedliche Konfliktlösungen statt neuer US-Mittelstrecken- und Atomwaffen auf deutschem Boden\nInvestitionen in Soziales\, für Kultur\, Gesundheit\, Umweltschutz und Bildung statt Billionen für Militär und deutsche Angriffswaffen\nVerständigung mit Russland statt Schüren von Hass\nDiplomatie statt Waffenlieferungen\nDemokratie statt Kriegswirtschaft\nFriedensbildung in Schulen und zivile Forschung an Universitäten statt Ausbildung zum Töten\nLebenswerte Zukunft für die junge Generation statt Kriegsdienst\nSelbstbestimmungsrecht der Völker statt Zerstörung des Völkerrechts\n\nFlyer * Faltblatt
URL:https://vvn-vda.de/event/ostermarsch/
LOCATION:Mauerpark / Oderberger Straße\, Oderberger Straße 31\, Berlin\, 10437
ORGANIZER;CN="FRIKO":MAILTO:info@friko-berlin.de
END:VEVENT
END:VCALENDAR