BEGIN:VCALENDAR
VERSION:2.0
PRODID:-//VVN-VdA - ECPv6.15.20//NONSGML v1.0//EN
CALSCALE:GREGORIAN
METHOD:PUBLISH
X-ORIGINAL-URL:https://vvn-vda.de
X-WR-CALDESC:Veranstaltungen für VVN-VdA
REFRESH-INTERVAL;VALUE=DURATION:PT1H
X-Robots-Tag:noindex
X-PUBLISHED-TTL:PT1H
BEGIN:VTIMEZONE
TZID:Europe/Berlin
BEGIN:DAYLIGHT
TZOFFSETFROM:+0100
TZOFFSETTO:+0200
TZNAME:CEST
DTSTART:20250330T010000
END:DAYLIGHT
BEGIN:STANDARD
TZOFFSETFROM:+0200
TZOFFSETTO:+0100
TZNAME:CET
DTSTART:20251026T010000
END:STANDARD
BEGIN:DAYLIGHT
TZOFFSETFROM:+0100
TZOFFSETTO:+0200
TZNAME:CEST
DTSTART:20260329T010000
END:DAYLIGHT
BEGIN:STANDARD
TZOFFSETFROM:+0200
TZOFFSETTO:+0100
TZNAME:CET
DTSTART:20261025T010000
END:STANDARD
BEGIN:DAYLIGHT
TZOFFSETFROM:+0100
TZOFFSETTO:+0200
TZNAME:CEST
DTSTART:20270328T010000
END:DAYLIGHT
BEGIN:STANDARD
TZOFFSETFROM:+0200
TZOFFSETTO:+0100
TZNAME:CET
DTSTART:20271031T010000
END:STANDARD
END:VTIMEZONE
BEGIN:VEVENT
DTSTART;TZID=Europe/Berlin:20260209T100000
DTEND;TZID=Europe/Berlin:20260227T180000
DTSTAMP:20260422T003629
CREATED:20260210T085013Z
LAST-MODIFIED:20260210T085013Z
UID:34619-1770631200-1772215200@vvn-vda.de
SUMMARY:Ausstellung: Die Friedensbewegung der 1980er Jahre
DESCRIPTION:Vom 9. bis 27. Februar 2026 wird in der Berliner Landeszentrale für politische Bildung die Ausstellung Friedensbewegung der 1980er Jahre in der BRD – Dokumente mit Fokus auf West-Berlin gezeigt. Die Ausstellung wurde von der Humanistischen Union entworfen und wird von der Landeszentrale für politische Bildung gefördert. \nAuf sechs Roll-Ups werden ausschließlich Dokumente (Fotos\, Flugblätter\, Zeitungsartikel\, Karikaturen etc.) der Jahre 1980-1988 aus den beteiligten Gruppen\, Parteien\, Gewerkschaften\, Kirchen und Hochschulen gezeigt. Die Ausstellung bietet – anlässlich des Berliner Abiturschwerpunkts in den Jahren 2026 und 2027 – die Möglichkeit\, sich mit den Debatten\, Zielen und (Miss-)Erfolgen der Friedensbewegung auseinanderzusetzen. \nDie Ausstellung kann vom 9. bis zum 27. Februar jeweils dienstags\, mittwochs und freitags von 10 bis 18 Uhr in der Berliner Landeszentrale für politische Bildung\, Revaler Str. 29\, 10245 Berlin besucht werden. Klassen- und Gruppenanmeldungen sind obligatorisch mindestens drei Tage vorher über anja.witzel@senbjf.berlin.de vorzunehmen. Zur vertiefenden Behandlung der Themen wird zusätzlich digital abrufbares Begleitmaterial angeboten. \nVollständige Exemplare der Ausstellung können von Schulen ausgeliehen werden. Bei Interesse schreiben Sie bitte an Bettina Deutsch: deutsch@leibniz-gymnasium.berlin. \nDie digitale Ausstellung \nWie bieten zudem die Ausstellung als kostenlose digitale Version an. Um sich die Ausstellung als PDF-Datei anzusehen und herunterzuladen\, klicken Sie bitte hier: https://www.humanistische-union.de/wp-content/uploads/2026/02/80erFriedenTafeln_www.pdf. \nAn der Ausstellung haben mitgewirkt: Kurt Blank-Markard\, Bettina Deutsch\, Philip Dingeldey\, Claus Kittsteiner\, Carola Otte\, Wilhelm Quitzow\, Brigitte Reich\, Hilde Schramm und Laura von Wimmersperg. \nBegleitmaterial als Angebot zur Vertiefung einiger Aspekte der Ausstellung \nZudem haben wir Begleitmaterial für die Ausstellung in Form von historischen Quellen aufbereitet. Das Begleitmaterial enthält ebenso wie die Ausstellung ausschließlich Dokumente aus den 1980er Jahren\, ohne Kommentierung aus heutiger Sicht. Dieses ist auch dazu gedacht\, Lehrkräften und Personen aus der politischen Bildung Arbeitsmaterial im Kontext des Schulunterrichts oder Seminaren zu bieten. Um das gesamte Begleitheft herunterzuladen\, klicken Sie bitte hier: https://www.humanistische-union.de/wp-content/uploads/2026/02/80erFriedenBegleitmaterial_www.pdf. \nDie einzelnen Quellen\, die die sechs Ausstellungstafeln ergänzen\, können Sie auch einzeln ansehen und herunterladen. Um die Auflistung des einzelnen Materials anzusehen\, klicken Sie bitte hier: https://www.humanistische-union.de/thema/die-friedensbewegung-1980er-jahre-in-der-brd-fokus-west-berlin/
URL:https://vvn-vda.de/event/ausstellung-die-friedensbewegung-der-1980er-jahre/
LOCATION:Berliner Landeszentrale für politische Bildung\, Revaler Straße 29\, Berlin\, 10245
END:VEVENT
BEGIN:VEVENT
DTSTART;TZID=Europe/Berlin:20260211T200000
DTEND;TZID=Europe/Berlin:20260211T200000
DTSTAMP:20260422T003629
CREATED:20260122T131249Z
LAST-MODIFIED:20260122T131600Z
UID:34529-1770840000-1770840000@vvn-vda.de
SUMMARY:Film: A single day
DESCRIPTION:1968\, My Lai: US-Soldaten ermorden über 500 unbewaffnete Zivilisten. Frauen\, Kinder\, Alte. Mitten im Massaker landet ein Hubschrauber. Der 18-jährige Bordschütze Larry Colburn sieht\, was passiert. Er trifft eine Entscheidung: Er stellt sich zwischen die Täter und ihre Opfer. Mit geladener Waffe. Bereit\, auf die eigenen Leute zu schießen. Kriegsverbrechen passieren nicht einfach. My Lai wurde 18 Monate lang geheim gehalten. Nur EIN Offizier wurde verurteilt – zu 3\,5 Jahren Hausarrest. Die Soldaten\, die retteten? Wurden 30 Jahre lang mehr oder weniger verachtet.\nDie Fragen von 1968 sind die Fragen von 2026: Wie weit geht Befehlsgehorsam? Wann wird aus Mittäterschaft Mitschuld? Was kostet es\, aufzustehen? Überall dieselben Mechanismen. Überall derselbe Reflex: „Das waren Einzeltäter.“ „Das war eine Ausnahme.“ Nein! Larry Colburn hat bewiesen: Es ist nicht kompliziert. Es ist nur schwer.\nDer Film zeigt drei Generationen zwischen Krieg und Frieden: Larrys Vater war Soldat im 2. Weltkrieg und am D-Day in der Normandie\, Larry selbst in Vietnam\, My Lai – und sein Sohn Connor? Was sagt der zur Familiengeschichte\, zum Soldatensein\, zum Krieg? Ein aktueller Beitrag zur Diskussion\, wie wir zum Wehrdienst stehen. \nNach dem Film ist Regisseur Christoph Felder für ein Gespräch da.\nFlyer
URL:https://vvn-vda.de/event/film-a-single-day/
LOCATION:Kino Babylon Berlin\, Rosa-Luxemburg-Straße 30\, Berlin\, 10178
END:VEVENT
END:VCALENDAR