BEGIN:VCALENDAR
VERSION:2.0
PRODID:-//VVN-VdA - ECPv6.15.20//NONSGML v1.0//EN
CALSCALE:GREGORIAN
METHOD:PUBLISH
X-WR-CALNAME:VVN-VdA
X-ORIGINAL-URL:https://vvn-vda.de
X-WR-CALDESC:Veranstaltungen für VVN-VdA
REFRESH-INTERVAL;VALUE=DURATION:PT1H
X-Robots-Tag:noindex
X-PUBLISHED-TTL:PT1H
BEGIN:VTIMEZONE
TZID:Europe/Berlin
BEGIN:DAYLIGHT
TZOFFSETFROM:+0100
TZOFFSETTO:+0200
TZNAME:CEST
DTSTART:20250330T010000
END:DAYLIGHT
BEGIN:STANDARD
TZOFFSETFROM:+0200
TZOFFSETTO:+0100
TZNAME:CET
DTSTART:20251026T010000
END:STANDARD
BEGIN:DAYLIGHT
TZOFFSETFROM:+0100
TZOFFSETTO:+0200
TZNAME:CEST
DTSTART:20260329T010000
END:DAYLIGHT
BEGIN:STANDARD
TZOFFSETFROM:+0200
TZOFFSETTO:+0100
TZNAME:CET
DTSTART:20261025T010000
END:STANDARD
BEGIN:DAYLIGHT
TZOFFSETFROM:+0100
TZOFFSETTO:+0200
TZNAME:CEST
DTSTART:20270328T010000
END:DAYLIGHT
BEGIN:STANDARD
TZOFFSETFROM:+0200
TZOFFSETTO:+0100
TZNAME:CET
DTSTART:20271031T010000
END:STANDARD
END:VTIMEZONE
BEGIN:VEVENT
DTSTART;TZID=Europe/Berlin:20260203T180000
DTEND;TZID=Europe/Berlin:20260203T180000
DTSTAMP:20260422T003020
CREATED:20260131T165743Z
LAST-MODIFIED:20260131T165949Z
UID:34564-1770141600-1770141600@vvn-vda.de
SUMMARY:Gegen die US-Interventionen in Lateinamerika und in der Karibik!
DESCRIPTION:Internationaler Protesttag gegen die US-Interventionen in Lateinamerika und in der Karibik\nFreiheit für Präsident Maduro und Cilia Flores! \nDer amtierende venezolanische Präsident Nicolas Maduro und seine Ehefrau und Parlamentsabgeordnete Cilia Flores wurden als Geiseln in einer Spezialoperation der USA mit mehr als 100 Toten am 3. Januar 2026 in Venzuelas Hauptstadt Caracas entführt und vor ein New Yorker Gericht gezerrt.\nBereits seit dem Sommer 25 exekutierte die akuelle Trump-Administration im karibischen Meer und im Ostpazifik einen nicht-erklärten Krieg gegen Venezuela und andere karibische Staaten\, dem bisher ebenfalls mehr als 100 Menschen zum Opfer fielen\, zu großen Teilen in Ausübung ihrer Arbeit als Fischer auf dem Meer.\nEine seit Trumps Amtsantritt beim New Yorker Distriktsgerichts vorliegende Anklage wirft dem Präsidenten und seiner Frau den Mißbrauch von Ämtern und Institutionen des Staates Venezuela zum systematischen Handel mit Drogen und des tonnenweisen Imports von Kokain in die USA vor.\nDer Coup der USA in Venezuela vom 3. Januar mit der Entführung des Präsidenten ist eine schwere Verletzung Völkerrechts.\nDamit ist in Venezuela die Regierung der Bolivarischen Revolution weiterhin die legitimen Vertreterin des Landes\, die USA hat nicht das Recht\, die aktuelle Regierung unter Delcy Rodriguez zur Durchsetzung ihrer geostrategischen und wirtschaftlichen Interessen unter Druck zu setzen\, um an das venezolanische Erdöl und andere Rohstoffe des Landes zu gelangen. \nTrumps Ansprüche gegenüber Venezuela sind das auch Muster für seine imperialistische Aggressionspolitik gegenüber den Nachbarstaaten in der Region. \nWir fordern heute deshalb mit vielen anderen Protestanten in anderen Teilen der Welt \n\ndie sofortige Freilassung von Präsident Maduro und Cilia Flores aus US-amerikanischem Knast und ihre umfassende Rehabilitation\ndie Rehabilitation der Ermordeten und Schwerverletzten\, die Erstattung der verursachten Schäden aus der kriegerischen Aggression der Trump-Administration in der\nKaribik und der militärischen Intervention Venezuelas und Caracas vom 3. Januar 2026\ndas Ende der militärischen Aggressionen der USA gegen ihre lateinamerikanischen und karibischen Nachbarstaaten – Aufhebung aller Sanktionen und Wirtschaftsblockaden – Anerkennung des internationalen Seerechts\ndie Erhebung von Anklage durch und vor dem Internationalen Strafgerichtshof gegen den amtierenden Präsident Trump\, Verteidigungsminister Pete Hegseth und\nAußenminister Marco Rubio wegen Verschwörung gegen den Frieden und Führung eines Angriffskriegs.\n\nYANKEES\, HÄNDE WEG VON VENEZUELA UND DER KARIBIK!\n¡No pasaran – Vencemos! \nFlyer
URL:https://vvn-vda.de/event/gegen-die-us-interventionen-in-lateinamerika-und-in-der-karibik/
LOCATION:Pariser Platz\, Pariser Platz 2\, Berlin\, 10117
END:VEVENT
END:VCALENDAR