BEGIN:VCALENDAR
VERSION:2.0
PRODID:-//VVN-VdA - ECPv6.15.20//NONSGML v1.0//EN
CALSCALE:GREGORIAN
METHOD:PUBLISH
X-ORIGINAL-URL:https://vvn-vda.de
X-WR-CALDESC:Veranstaltungen für VVN-VdA
REFRESH-INTERVAL;VALUE=DURATION:PT1H
X-Robots-Tag:noindex
X-PUBLISHED-TTL:PT1H
BEGIN:VTIMEZONE
TZID:Europe/Berlin
BEGIN:DAYLIGHT
TZOFFSETFROM:+0100
TZOFFSETTO:+0200
TZNAME:CEST
DTSTART:20250330T010000
END:DAYLIGHT
BEGIN:STANDARD
TZOFFSETFROM:+0200
TZOFFSETTO:+0100
TZNAME:CET
DTSTART:20251026T010000
END:STANDARD
BEGIN:DAYLIGHT
TZOFFSETFROM:+0100
TZOFFSETTO:+0200
TZNAME:CEST
DTSTART:20260329T010000
END:DAYLIGHT
BEGIN:STANDARD
TZOFFSETFROM:+0200
TZOFFSETTO:+0100
TZNAME:CET
DTSTART:20261025T010000
END:STANDARD
BEGIN:DAYLIGHT
TZOFFSETFROM:+0100
TZOFFSETTO:+0200
TZNAME:CEST
DTSTART:20270328T010000
END:DAYLIGHT
BEGIN:STANDARD
TZOFFSETFROM:+0200
TZOFFSETTO:+0100
TZNAME:CET
DTSTART:20271031T010000
END:STANDARD
END:VTIMEZONE
BEGIN:VEVENT
DTSTART;TZID=Europe/Berlin:20260111T100000
DTEND;TZID=Europe/Berlin:20260111T100000
DTSTAMP:20260422T015449
CREATED:20251031T101954Z
LAST-MODIFIED:20251031T101954Z
UID:34083-1768125600-1768125600@vvn-vda.de
SUMMARY:Liebknecht-Luxemburg-Demo
DESCRIPTION:Die traditionelle alljährliche Demo zur Gedenkstätte der Sozialisten.
URL:https://vvn-vda.de/event/liebknecht-luxemburg-demo/
LOCATION:Frankfurter Tor\, Frankfurter Allee 2\, Berlin\, 10247
END:VEVENT
BEGIN:VEVENT
DTSTART;TZID=Europe/Berlin:20260111T180000
DTEND;TZID=Europe/Berlin:20260111T180000
DTSTAMP:20260422T015449
CREATED:20251201T113259Z
LAST-MODIFIED:20251201T113259Z
UID:34351-1768154400-1768154400@vvn-vda.de
SUMMARY:Infoveranstaltung zu Mumia Abu Jamal
DESCRIPTION:Infoveranstaltung in englisch und deutscher Übersetzung:\n– Noel Hanrahan (Gründerin von Prison Radio & Verteidigerin von Mumia)\n– Saleem Holbrock (Abolitionist Law Center)\n– Jennifer Black (Co-Autorin von „Beneath The Mountain“ mit Mumia)
URL:https://vvn-vda.de/event/infoveranstaltung-zu-mumia-abu-jamal/
LOCATION:Mieterladen Kreutzigerstraße\, Kreutzigerstraße 23\, Berlin\, 10247
END:VEVENT
END:VCALENDAR