BEGIN:VCALENDAR
VERSION:2.0
PRODID:-//VVN-VdA - ECPv6.15.20//NONSGML v1.0//EN
CALSCALE:GREGORIAN
METHOD:PUBLISH
X-ORIGINAL-URL:https://vvn-vda.de
X-WR-CALDESC:Veranstaltungen für VVN-VdA
REFRESH-INTERVAL;VALUE=DURATION:PT1H
X-Robots-Tag:noindex
X-PUBLISHED-TTL:PT1H
BEGIN:VTIMEZONE
TZID:Europe/Berlin
BEGIN:DAYLIGHT
TZOFFSETFROM:+0100
TZOFFSETTO:+0200
TZNAME:CEST
DTSTART:20250330T010000
END:DAYLIGHT
BEGIN:STANDARD
TZOFFSETFROM:+0200
TZOFFSETTO:+0100
TZNAME:CET
DTSTART:20251026T010000
END:STANDARD
BEGIN:DAYLIGHT
TZOFFSETFROM:+0100
TZOFFSETTO:+0200
TZNAME:CEST
DTSTART:20260329T010000
END:DAYLIGHT
BEGIN:STANDARD
TZOFFSETFROM:+0200
TZOFFSETTO:+0100
TZNAME:CET
DTSTART:20261025T010000
END:STANDARD
BEGIN:DAYLIGHT
TZOFFSETFROM:+0100
TZOFFSETTO:+0200
TZNAME:CEST
DTSTART:20270328T010000
END:DAYLIGHT
BEGIN:STANDARD
TZOFFSETFROM:+0200
TZOFFSETTO:+0100
TZNAME:CET
DTSTART:20271031T010000
END:STANDARD
END:VTIMEZONE
BEGIN:VEVENT
DTSTART;TZID=Europe/Berlin:20260110T110000
DTEND;TZID=Europe/Berlin:20260110T200000
DTSTAMP:20260422T015535
CREATED:20251031T101734Z
LAST-MODIFIED:20251031T101800Z
UID:34080-1768042800-1768075200@vvn-vda.de
SUMMARY:Internationale Rosa-Luxemburg-Konferenz
DESCRIPTION:»Kopfüber in den Krieg – Gegen Rüstungswahn und mediale Mobilmachung« –\nso lautet der Titel der 31. Internationalen Rosa-Luxemburg-Konferenz\, die am 10. Januar 2026 in den Wilhelm Studios in Berlin stattfindet. \nWir freuen uns bereits über die Zusagen von Pablo Iglesias\, Noelle Hanrahan\, Mumia Abu-Jamal\, Robert Saleem Holbrook\, Cinzia Dellaporta und Jörg Goldberg\, als Redner an der Konferenz teilzunehmen.
URL:https://vvn-vda.de/event/internationale-rosa-luxemburg-konferenz/
LOCATION:Wilhelm-Studios Berlin\, Kopenhagener Straße 60-68\, Berlin\, 13407
ORGANIZER;CN="Tageszeitung junge Welt":MAILTO:redaktion@jungewelt.de
END:VEVENT
END:VCALENDAR