BEGIN:VCALENDAR
VERSION:2.0
PRODID:-//VVN-VdA - ECPv6.15.20//NONSGML v1.0//EN
CALSCALE:GREGORIAN
METHOD:PUBLISH
X-ORIGINAL-URL:https://vvn-vda.de
X-WR-CALDESC:Veranstaltungen für VVN-VdA
REFRESH-INTERVAL;VALUE=DURATION:PT1H
X-Robots-Tag:noindex
X-PUBLISHED-TTL:PT1H
BEGIN:VTIMEZONE
TZID:Europe/Berlin
BEGIN:DAYLIGHT
TZOFFSETFROM:+0100
TZOFFSETTO:+0200
TZNAME:CEST
DTSTART:20250330T010000
END:DAYLIGHT
BEGIN:STANDARD
TZOFFSETFROM:+0200
TZOFFSETTO:+0100
TZNAME:CET
DTSTART:20251026T010000
END:STANDARD
BEGIN:DAYLIGHT
TZOFFSETFROM:+0100
TZOFFSETTO:+0200
TZNAME:CEST
DTSTART:20260329T010000
END:DAYLIGHT
BEGIN:STANDARD
TZOFFSETFROM:+0200
TZOFFSETTO:+0100
TZNAME:CET
DTSTART:20261025T010000
END:STANDARD
BEGIN:DAYLIGHT
TZOFFSETFROM:+0100
TZOFFSETTO:+0200
TZNAME:CEST
DTSTART:20270328T010000
END:DAYLIGHT
BEGIN:STANDARD
TZOFFSETFROM:+0200
TZOFFSETTO:+0100
TZNAME:CET
DTSTART:20271031T010000
END:STANDARD
END:VTIMEZONE
BEGIN:VEVENT
DTSTART;TZID=Europe/Berlin:20260105T170000
DTEND;TZID=Europe/Berlin:20260105T170000
DTSTAMP:20260422T015437
CREATED:20251203T170728Z
LAST-MODIFIED:20251211T171322Z
UID:34383-1767632400-1767632400@vvn-vda.de
SUMMARY:Gedenken an Celalettin Kesim
DESCRIPTION:Am 5. Januar 1980 wurde unser Genosse Celalettin Kesim von türkischen Faschisten am Kottbusser Tor auf offener Straße ermordet. Zusammen mit seinen Genossen war er dort\, um Flugblätter gegen einen drohenden Militärputsch in der Türkei zu verteilen.\nCelalettin war Kommunist\, aktiver Gewerkschafter und Sekretär des damaligen Türkenzentrums. Seine „Waffe“ war das Wort\, die Faschisten kamen mit Schlagstöcken und Messern.\nDamals wie heute morden die Faschisten mit Rückendeckung der kapitalistischen Staaten und des Kriegsbündnisses NATO: In der Türkei\, in der Bundesrepublik und in der Ukraine. Wir werden das Gedenken an Celalettin Kesim wie auch an andere ermordete Antifaschisten wachhalten und den Widerstand gegen die zunehmende faschistische Gefahr\, die von den reaktionärsten kapitalistischen Kreisen ausgeht\, gemeinsam organisieren. \nNichts ist vergessen!\nNiemand ist vergessen! \nPoster
URL:https://vvn-vda.de/event/gedenken-an-celalettin-kesim/
LOCATION:Gedenkstele Kottbusser Tor Ecke Reichenberger Straße\, Reichenberger Straße 16\, Berlin\, 10999
END:VEVENT
END:VCALENDAR