BEGIN:VCALENDAR
VERSION:2.0
PRODID:-//VVN-VdA - ECPv6.15.20//NONSGML v1.0//EN
CALSCALE:GREGORIAN
METHOD:PUBLISH
X-ORIGINAL-URL:https://vvn-vda.de
X-WR-CALDESC:Veranstaltungen für VVN-VdA
REFRESH-INTERVAL;VALUE=DURATION:PT1H
X-Robots-Tag:noindex
X-PUBLISHED-TTL:PT1H
BEGIN:VTIMEZONE
TZID:Europe/Berlin
BEGIN:DAYLIGHT
TZOFFSETFROM:+0100
TZOFFSETTO:+0200
TZNAME:CEST
DTSTART:20240331T010000
END:DAYLIGHT
BEGIN:STANDARD
TZOFFSETFROM:+0200
TZOFFSETTO:+0100
TZNAME:CET
DTSTART:20241027T010000
END:STANDARD
BEGIN:DAYLIGHT
TZOFFSETFROM:+0100
TZOFFSETTO:+0200
TZNAME:CEST
DTSTART:20250330T010000
END:DAYLIGHT
BEGIN:STANDARD
TZOFFSETFROM:+0200
TZOFFSETTO:+0100
TZNAME:CET
DTSTART:20251026T010000
END:STANDARD
BEGIN:DAYLIGHT
TZOFFSETFROM:+0100
TZOFFSETTO:+0200
TZNAME:CEST
DTSTART:20260329T010000
END:DAYLIGHT
BEGIN:STANDARD
TZOFFSETFROM:+0200
TZOFFSETTO:+0100
TZNAME:CET
DTSTART:20261025T010000
END:STANDARD
END:VTIMEZONE
BEGIN:VEVENT
DTSTART;TZID=Europe/Berlin:20251119T080000
DTEND;TZID=Europe/Berlin:20251219T170000
DTSTAMP:20260422T035155
CREATED:20251119T162620Z
LAST-MODIFIED:20251119T162646Z
UID:34276-1763539200-1766163600@vvn-vda.de
SUMMARY:Das Nanjing-Massaker in den Augen von John Rabe
DESCRIPTION:Weltgedächtnis und Friedensvision – Das Nanjing-Massaker in den Augen von John Rabe und anderen deutschen Zeitzeugen \nIm Winter 1937 verübte die japanische Invasionsarmee das grausame Massaker von Nanjing\, bei dem über 300.000 unschuldige Zivilisten und Kriegsgefangene ermordet wurden. Dieses schmerzliche Kapitel ist nicht nur Teil des kollektiven Gedächtnisses des chinesischen Volkes\, sondern auch eine gemeinsame historische Wunde der gesamten Menschheit. \nIn jener dunklen Zeit traten einige internationale Freunde mutig hervor. Der deutsche Kaufmann John Rabe\, Vorsitzender des Internationalen Sicherheitszonen-Komitees\, riskierte sein Leben\, um zehntausende Zivilisten zu schützen\, und dokumentierte mit Tagebüchern und Aufnahmen die grausame Wahrheit des Nanjing-Massakers. Sein selbstloses Handeln und seine Zeugnisse wurden zu einem bedeutenden Symbol menschlichen Gewissens und Mutes. \nUm das Verständnis der internationalen Gemeinschaft für die historischen Tatsachen des Nanjing-Massakers zu vertiefen und die gemeinsame Idee von Frieden und Entwicklung zu vermitteln\, veranstaltet das Chinesische Kulturzentrum Berlin in Zusammenarbeit mit der Gedenkstätte der Opfer des Nanjing-Massakers durch die japanische Invasionsarmee die Ausstellung „Weltgedächtnis und Friedensvision — Das Nanjing-Massaker in den Augen von John Rabe und anderen deutschen Zeitzeugen“. Anhand historischer Dokumente\, Bildmaterialien und wertvoller Exponate werden die Erfahrungen und Handlungen deutscher Zeitzeugen in Nanjing gezeigt. Die Ausstellung ruft dazu auf\, die Geschichte nicht zu vergessen und den Frieden zu bewahren.
URL:https://vvn-vda.de/event/das-nanjing-massaker-in-den-augen-von-john-rabe/
LOCATION:Chinesisches Kulturzentrum Berlin\, Klingelhöferstraße 21\, Berlin\, 10785
END:VEVENT
BEGIN:VEVENT
DTSTART;TZID=Europe/Berlin:20251206T140000
DTEND;TZID=Europe/Berlin:20251206T140000
DTSTAMP:20260422T035155
CREATED:20251203T083938Z
LAST-MODIFIED:20251203T084018Z
UID:34374-1765029600-1765029600@vvn-vda.de
SUMMARY:Kundgebung: Hände weg von Venezuela
DESCRIPTION:Die USA verschärfen ihre illegalen Aggressionen gegen das venezolanische Volk und bereiten einen direkten Krieg für einen Putsch vor. In kolonialer Manier hat Trump den Flugraum Venezuelas geschlossen. US-Kriegsschiffe stehen vor der Küste bereit und es wird mit einer Bodenoffensive gedroht. \n\nHände weg von Venezuela\nStopp jeglicher Aggression und Sanktionen\nHoch die internationale Solidarität
URL:https://vvn-vda.de/event/kundgebung-haende-weg-von-venezuela/
LOCATION:Pariser Platz\, Pariser Platz 2\, Berlin\, 10117
END:VEVENT
BEGIN:VEVENT
DTSTART;TZID=Europe/Berlin:20251206T150000
DTEND;TZID=Europe/Berlin:20251206T160000
DTSTAMP:20260422T035155
CREATED:20251123T183142Z
LAST-MODIFIED:20251123T183430Z
UID:34322-1765033200-1765036800@vvn-vda.de
SUMMARY:Rundgang: Das KZ in Neukölln
DESCRIPTION:Wusstest du\, dass etwa 500 KZ-Häftlinge zum Kriegsende Munition für Krupp in Neukölln herstellten? \nAm Rande des Rixdorfer Weihnachtsmarkts bietet Public Historian Steve Richards zwei kostenlose Rundgänge um das Gelände\, das die SS zwischen August 1944 und April 1945 als Außenlager des KZ Sachsenhausen nutzte. Die Tour beleuchtet die Geschichte des historischen Ortes vor\, während und nach 1945 – mit besonderem Augenmerk auf das Schicksal von über 500 jüdischen Frauen\, die fast alle das Ghetto Łódź\, die Selektion in Auschwitz-Birkenau\, das KZ-Außenlager Neukölln\, das KZ Sachsenhausen (Hauptlager) und das KZ Ravensbrück überlebten. Zudem geht die Tour der Frage nach\, warum dieser bedeutende historische Ort hierzulande weitgehend in Vergessenheit geraten ist – während er immer noch eine zentrale Rolle im kollektiven Gedächtnis der Überlebenden und ihrer Nachkommen spielt. \nAnmeldung: stadtteil-mobil@nbh-neukoelln.de
URL:https://vvn-vda.de/event/rundgang-das-kz-in-neukoelln/
LOCATION:Bethlehemskirche Rixdorf\, Richardplatz 22\, Berlin\, 12055
ORGANIZER;CN="Mobile Stadtteilarbeit Rixdorf/Reuterkiez/Donaukiez":MAILTO:stadtteil-mobil@nbh-neukoelln.de
END:VEVENT
BEGIN:VEVENT
DTSTART;TZID=Europe/Berlin:20251206T163000
DTEND;TZID=Europe/Berlin:20251206T173000
DTSTAMP:20260422T035155
CREATED:20251123T183459Z
LAST-MODIFIED:20251123T183459Z
UID:34329-1765038600-1765042200@vvn-vda.de
SUMMARY:Rundgang: Das KZ in Neukölln
DESCRIPTION:Wusstest du\, dass etwa 500 KZ-Häftlinge zum Kriegsende Munition für Krupp in Neukölln herstellten? \nAm Rande des Rixdorfer Weihnachtsmarkts bietet Public Historian Steve Richards zwei kostenlose Rundgänge um das Gelände\, das die SS zwischen August 1944 und April 1945 als Außenlager des KZ Sachsenhausen nutzte. Die Tour beleuchtet die Geschichte des historischen Ortes vor\, während und nach 1945 – mit besonderem Augenmerk auf das Schicksal von über 500 jüdischen Frauen\, die fast alle das Ghetto Łódź\, die Selektion in Auschwitz-Birkenau\, das KZ-Außenlager Neukölln\, das KZ Sachsenhausen (Hauptlager) und das KZ Ravensbrück überlebten. Zudem geht die Tour der Frage nach\, warum dieser bedeutende historische Ort hierzulande weitgehend in Vergessenheit geraten ist – während er immer noch eine zentrale Rolle im kollektiven Gedächtnis der Überlebenden und ihrer Nachkommen spielt. \nAnmeldung: stadtteil-mobil@nbh-neukoelln.de
URL:https://vvn-vda.de/event/rundgang-das-kz-in-neukoelln-2/
LOCATION:Bethlehemskirche Rixdorf\, Richardplatz 22\, Berlin\, 12055
ORGANIZER;CN="Mobile Stadtteilarbeit Rixdorf/Reuterkiez/Donaukiez":MAILTO:stadtteil-mobil@nbh-neukoelln.de
END:VEVENT
END:VCALENDAR