BEGIN:VCALENDAR
VERSION:2.0
PRODID:-//VVN-VdA - ECPv6.15.20//NONSGML v1.0//EN
CALSCALE:GREGORIAN
METHOD:PUBLISH
X-WR-CALNAME:VVN-VdA
X-ORIGINAL-URL:https://vvn-vda.de
X-WR-CALDESC:Veranstaltungen für VVN-VdA
REFRESH-INTERVAL;VALUE=DURATION:PT1H
X-Robots-Tag:noindex
X-PUBLISHED-TTL:PT1H
BEGIN:VTIMEZONE
TZID:Europe/Berlin
BEGIN:DAYLIGHT
TZOFFSETFROM:+0100
TZOFFSETTO:+0200
TZNAME:CEST
DTSTART:20240331T010000
END:DAYLIGHT
BEGIN:STANDARD
TZOFFSETFROM:+0200
TZOFFSETTO:+0100
TZNAME:CET
DTSTART:20241027T010000
END:STANDARD
BEGIN:DAYLIGHT
TZOFFSETFROM:+0100
TZOFFSETTO:+0200
TZNAME:CEST
DTSTART:20250330T010000
END:DAYLIGHT
BEGIN:STANDARD
TZOFFSETFROM:+0200
TZOFFSETTO:+0100
TZNAME:CET
DTSTART:20251026T010000
END:STANDARD
BEGIN:DAYLIGHT
TZOFFSETFROM:+0100
TZOFFSETTO:+0200
TZNAME:CEST
DTSTART:20260329T010000
END:DAYLIGHT
BEGIN:STANDARD
TZOFFSETFROM:+0200
TZOFFSETTO:+0100
TZNAME:CET
DTSTART:20261025T010000
END:STANDARD
END:VTIMEZONE
BEGIN:VEVENT
DTSTART;TZID=Europe/Berlin:20251108T190000
DTEND;TZID=Europe/Berlin:20251108T190000
DTSTAMP:20260422T071716
CREATED:20251013T185724Z
LAST-MODIFIED:20251013T190754Z
UID:33970-1762628400-1762628400@vvn-vda.de
SUMMARY:Wie das Gesundheitswesen militarisiert wird
DESCRIPTION:Deutschland soll wieder kriegstüchtig werden. Dafür hat die Bundesregierung schon 2023 ein Strategiekonzept zur nationalen Sicherheit verabschiedet: „Wehrhaft. Resilient. Nachhaltig. Integrierte Sicherheit für Deutschland“. Ein Gesetz zur „Sicherstellung“ der Gesundheitsversorgung im Kriegsfall wird vorbereitet. Die Gesundheitsversorgung der Zivilbevölkerung soll hinter der Versorgung der Militärangehörigen zurückstehen. In der Bevölkerung soll die Illusion geschaffen werden\, dass medizinische Hilfe im Kriegsfall möglich sei. Bedrohungsszenarien werden eingesetzt\, Angst wird instrumentalisiert.\nDie logischen Folgen dieser längst eingeleiteten und forcierten Entwicklung sind Aufrüstung\, Sozialabbau\, Rechtsentwicklung in der Gesellschaft. Die Gefahr eines (auch atomaren) Krieges steigt und wird ignoriert.\nÜber diese Entwicklung wollen wir informieren und über Alternativen diskutieren. \nReferentin: Ute Rippel-Lau ist Ärztin für Allgemeinmedizin und ehemaliges Vorstandsmitglied der IPPNW. Sie ist aktiv in der IPPNW-Kampagne gegen die Militarisierung des Gesundheitswesens: ippnw.de/bit/militarisierungZur Einstimmung zeigen wir den komisch-ernsten Film Atomschlag\, der vor 40 Jahren von der Friedensinitiative im Urban-Krankenhaus gedreht worden ist (30Minuten). \nFlyer
URL:https://vvn-vda.de/event/wie-das-gesundheitswesen-militarisiert-wird/
LOCATION:Kiezraum Dragonerareal\, Mehringdamm 26\, Berlin\, 10963
ORGANIZER;CN="VVN-VdA":MAILTO:info@vvn-vda.de
END:VEVENT
END:VCALENDAR